BEGIN:VCALENDAR
VERSION:2.0
PRODID:-//ChamberMaster//Event Calendar 2.0//EN
METHOD:PUBLISH
X-PUBLISHED-TTL:P3D
REFRESH-INTERVAL:P3D
CALSCALE:GREGORIAN
BEGIN:VEVENT
DTSTART:20260422T123000Z
DTEND:20260422T143000Z
X-MICROSOFT-CDO-ALLDAYEVENT:FALSE
SUMMARY:WNC Economic Outlook with Dr. Robert Dietz
DESCRIPTION:Join us at the *New* BABRM Classroom for a local economic forecast with Dr. Robert Dietz\, Chief Economist for NAHB. Come learn what today's headlines mean for the economy and the home building industry. What's the outlook for the Federal Reserve\, interest rates\, and energy prices given the Iran war\, simmering trade conflicts\, and concerns about AI.\n\nWe're keeping this one small\, just 50 in-person attendees\,so there's space for real conversation.\n\nIt's also membership drive month\, and we're holding a few spots specifically for new members. If you've been thinking about getting more involved\, this is a great place to step in and learn alongside the group.
X-ALT-DESC;FMTTYPE=text/html:<p data-end="327" data-start="117">Join us&nbsp\;at the *New* BABRM Classroom for a local economic forecast with Dr. Robert Dietz\, Chief Economist for NAHB.&nbsp\;<span style="color: rgb(34\, 34\, 34)\; font-family: Arial\, Helvetica\, sans-serif\; font-size: small\;">Come learn what today&rsquo\;s headlines mean for the economy and the home building industry. What&rsquo\;s the outlook for the Federal Reserve\, interest rates\, and energy prices given the Iran war\, simmering trade conflicts\, and concerns about AI.</span></p>\n\n<p data-end="425" data-start="329">We&rsquo\;re keeping this one small\, just 50 in-person attendees\,so there&rsquo\;s space for real conversation.</p>\n\n<p data-end="637" data-start="427">It&rsquo\;s also membership drive month\, and we&rsquo\;re holding a few spots specifically for new members. If you&rsquo\;ve been thinking about getting more involved\, this is a great place to step in and learn alongside the group.</p>\n
LOCATION:**BABRM Classroom NEW LOCATION*** 39 Glendale Ave
UID:e.9512.5555
SEQUENCE:3
DTSTAMP:20260422T162230Z
URL:https://members.bablueridge.com/events/details/wnc-economic-outlook-with-dr-robert-dietz-5555
END:VEVENT

END:VCALENDAR
