BEGIN:VCALENDAR
VERSION:2.0
PRODID:-//ChamberMaster//Event Calendar 2.0//EN
METHOD:PUBLISH
X-PUBLISHED-TTL:P3D
REFRESH-INTERVAL:P3D
CALSCALE:GREGORIAN
BEGIN:VEVENT
DTSTART:20201217T173000Z
DTEND:20201217T183000Z
X-MICROSOFT-CDO-ALLDAYEVENT:FALSE
SUMMARY:What General Contractors Need to Know: Liability and COVID-19
DESCRIPTION:A free overview of best practices for Contractors and Subcontractors to navigate liability and other challenges related to COVID-19.  Q&A Session to follow.
X-ALT-DESC;FMTTYPE=text/html:<br />\n<span style="color: rgb(31\, 73\, 125)\; font-family: Arial\, Helvetica\, sans-serif\; font-size: small\;">A free overview of best practices for Contractors and Subcontractors to navigate liability and other challenges related to COVID-19.&nbsp\; Q&amp\;A Session to follow.</span>
LOCATION:Zoom call info will be sent to registrants
UID:e.9512.3197
SEQUENCE:3
DTSTAMP:20260425T215431Z
URL:https://members.bablueridge.com/events/details/what-general-contractors-need-to-know-liability-and-covid-19-3197
END:VEVENT

END:VCALENDAR
