BEGIN:VCALENDAR
VERSION:2.0
PRODID:-//ChamberMaster//Event Calendar 2.0//EN
METHOD:PUBLISH
X-PUBLISHED-TTL:P3D
REFRESH-INTERVAL:P3D
CALSCALE:GREGORIAN
BEGIN:VEVENT
DTSTART:20210422T160000Z
DTEND:20210422T210000Z
X-MICROSOFT-CDO-ALLDAYEVENT:FALSE
SUMMARY:Wellness Within Your Walls Healthy Home Workshop & Certification Class
DESCRIPTION:Join us at the Wellness Within Your Walls Healthy Home Workshop. Learn how to drastically reduce toxins in the interior environment and receive the most respected residential health and wellness designation. \n\n\n\nWWYW's educational series teaches how to build healthy homes that add value to the bottom line\, increasing profits while maintain an affordable budget. During COVID-19\, the benefits realized by builders include the opportunity to market their homes as healthier than the competition.\n\n\n\nWellness Within Your Walls Founder\, Jillian Pritchard Cooke\, and her team created WWYW's Healthy Living System\, which can increase your profits and generate healthier living outcomes.\n\n\n\nThe WWYW holistic approach to the built environment begins with the selection of healthy\, sustainable and climate-specific building mechanical systems and home furnishings. Continuing with maintenance and behavioral strategies ensures sustained wellness resulting in healthier living environment and\, ultimately\, healthier families.\n\n\n\nThe 4-Course Series focuses on lowering chemical and viral exposure in the built environment. Through the three categories\, Natural\, Sustainable\, and Responsible   this education provides a system for all to make healthier\, thoughtful\, and responsible choices. \n\n\n\nUpon completion of the courses and test\, attendees receive WWYW Professional Certification\, along with the WWYW Designation. Adopting best practices and becoming WWYW   certified communicates that you value homeowners' health wellness.\n\n\n\nDon't miss your chance to be part of one of the first groups trained in the nation.
X-ALT-DESC;FMTTYPE=text/html:<br />\n<span style="background:white\;"><span style="color:#333333\;"><span style="font-family:arial\,sans-serif\;"><span style="font-size:10.0pt\;">Join us at the <a href="https://chambermaster.blob.core.windows.net/userfiles/UserFiles/chambers/9512/File/AHBAWorkshopFlyer-v2-2.pdf" target="_blank">Wellness Within Your Walls Healthy Home Workshop</a>. Learn how to drastically reduce toxins in the interior environment and receive the most respected residential health and wellness designation.&nbsp\;</span></span></span></span><br />\n<br />\n<span style="background:white\;"><span style="color:#333333\;"><span style="font-family:arial\,sans-serif\;"><span style="font-size:10.0pt\;">WWYW&rsquo\;s educational series teaches how to build healthy homes that add value to the bottom line\, increasing profits while maintain an affordable budget. During COVID-19\, the benefits realized by builders include the opportunity to market their homes as healthier than the competition.</span></span></span></span><br />\n<br />\n<span style="background:white\;"><span style="color:#333333\;"><span style="font-family:arial\,sans-serif\;"><span style="font-size:10.0pt\;">Wellness Within Your Walls Founder\, Jillian Pritchard Cooke\, and her team created WWYW&rsquo\;s Healthy Living System\, which can increase your profits and generate healthier living outcomes.<br />\n<br />\nThe WWYW holistic approach to the built environment begins with the selection of healthy\, sustainable and climate-specific building mechanical systems and home furnishings. Continuing with maintenance and behavioral strategies ensures sustained wellness resulting in healthier living environment and\, ultimately\, healthier families.</span></span></span></span><br />\n<br />\n<span style="background:white\;"><span style="color:#333333\;"><span style="font-family:arial\,sans-serif\;"><span style="font-size:10.0pt\;">The 4-Course Series focuses on lowering chemical and viral exposure in the built environment. Through the three categories\, Natural\, Sustainable\, and Responsible &ndash\; this education provides a system for all to make healthier\, thoughtful\, and responsible choices. </span></span></span></span><br />\n<br />\n<span style="background:white\;"><span style="color:#333333\;"><span style="font-family:arial\,sans-serif\;"><span style="font-size:10.0pt\;">Upon completion of the courses and test\, attendees receive WWYW Professional Certification\, along with the WWYW Designation. Adopting best practices and becoming WWYW &ndash\; certified communicates that you value homeowners&rsquo\; health wellness.<br />\n<br />\nDon&#39\;t miss your chance to be part of one of the first groups trained in the nation.&nbsp\;</span></span></span></span>
LOCATION:Atelier Maison & Co. 121 Sweeten Creek Road\, Ste 50 Asheville\, NC
UID:e.9512.3371
SEQUENCE:3
DTSTAMP:20260425T154729Z
URL:https://members.bablueridge.com/events/details/wellness-within-your-walls-healthy-home-workshop-certification-class-3371
END:VEVENT

END:VCALENDAR
