BEGIN:VCALENDAR
VERSION:2.0
PRODID:-//ChamberMaster//Event Calendar 2.0//EN
METHOD:PUBLISH
X-PUBLISHED-TTL:P3D
REFRESH-INTERVAL:P3D
CALSCALE:GREGORIAN
BEGIN:VEVENT
DTSTART:20220208T211500Z
DTEND:20220208T223000Z
X-MICROSOFT-CDO-ALLDAYEVENT:FALSE
SUMMARY:Volunteer with MANNA Foodbank
DESCRIPTION:MANNA FoodBank is a private\, not-for-profit service organization working to end food insecurity in the 16 counties of Western North Carolina. Join Membership Committee as we volunteer for this great cause!\n\n\n\nIf you'd like to volunteer please register on this page or contact Jude
X-ALT-DESC;FMTTYPE=text/html:MANNA FoodBank is a private\, not-for-profit service organization working to end food insecurity in the 16 counties of Western North Carolina. Join Membership Committee as we volunteer for this great cause!<br />\n<br />\nIf you&#39\;d like to volunteer please register on this page or contact Jude
LOCATION:627 Swannanoa River Road Asheville\, NC 28805-2445
UID:e.9512.3680
SEQUENCE:3
DTSTAMP:20260425T012623Z
URL:https://members.bablueridge.com/events/details/volunteer-with-manna-foodbank-3680
END:VEVENT

END:VCALENDAR
