BEGIN:VCALENDAR
VERSION:2.0
PRODID:-//ChamberMaster//Event Calendar 2.0//EN
METHOD:PUBLISH
X-PUBLISHED-TTL:P3D
REFRESH-INTERVAL:P3D
CALSCALE:GREGORIAN
BEGIN:VEVENT
DTSTART:20220903T123000Z
DTEND:20220903T160000Z
X-MICROSOFT-CDO-ALLDAYEVENT:FALSE
SUMMARY:Tunnel to Towers - 5k Run & Walk
DESCRIPTION:Follow the footsteps of 9/11 hero\, New York City firefighter Stephen Siller\, to ensure that we never forget and honor the sacrifices of our nation's first responders and military heroes. \n\nRegistration is free for members\, courtesy of Carpet One.\n\n\n\nFor more information\, click here.
X-ALT-DESC;FMTTYPE=text/html:Follow the footsteps of 9/11 hero\, New York City firefighter Stephen Siller\, to ensure that we never forget and honor the sacrifices of our nation&#39\;s first responders and military heroes.&nbsp\;<br />\nRegistration is free for members\, courtesy of Carpet One.<br />\n<br />\nFor more information\, <a href="http://t2t.org">click here.</a>
LOCATION:Pack's Tavern 20 S. Spruce Street Asheville NC 28801
UID:e.9512.3977
SEQUENCE:3
DTSTAMP:20260424T120405Z
URL:https://members.bablueridge.com/events/details/tunnel-to-towers-5k-run-walk-3977
END:VEVENT

END:VCALENDAR
