BEGIN:VCALENDAR
VERSION:2.0
PRODID:-//ChamberMaster//Event Calendar 2.0//EN
METHOD:PUBLISH
X-PUBLISHED-TTL:P3D
REFRESH-INTERVAL:P3D
CALSCALE:GREGORIAN
BEGIN:VEVENT
DTSTART:20200902T123000Z
DTEND:20200902T133000Z
X-MICROSOFT-CDO-ALLDAYEVENT:FALSE
SUMMARY:Tree Canopy Protection Ordinance Amendments Overview & Q & A with the City of Asheville
DESCRIPTION:Have you heard about the City of Asheville's proposed Tree Canopy Protection Ordinance Amendments? Do you have questions about how they might impact your work? Have you heard rumors and now want clarity?\n\nJoin us on Wednesday morning at 8:30 to hear from Chris Collins\, AICP\, of the City of Asheville\, to learn more about the proposed amendments and get answers to your questions. Please send your questions in advance to megan@ashevillehba.com.\n\n\n\nTo learn more about this ordinance click here
X-ALT-DESC;FMTTYPE=text/html:<p>Have you heard about the City of Asheville&#39\;s proposed Tree Canopy Protection Ordinance Amendments? Do you have questions about how they might impact your work? Have you heard rumors and now want clarity?</p>\n\n<p>Join us on Wednesday morning at 8:30 to hear from Chris Collins\, AICP\, of the City of Asheville\, to learn more about the proposed amendments and get answers to your questions. Please send your questions in advance to megan@ashevillehba.com.<br />\n<br />\nTo learn more about this ordinance&nbsp\;<a href="https://www.ashevillenc.gov/department/communication-public-engagement/projects-and-initiatives/tree-canopy-protection-ordinance-amendments/">click here</a>&nbsp\;</p>\n
LOCATION:Zoom Call info will be sent out prior to the call.
UID:e.9512.3168
SEQUENCE:3
DTSTAMP:20260426T023915Z
URL:https://members.bablueridge.com/events/details/tree-canopy-protection-ordinance-amendments-overview-q-a-with-the-city-of-asheville-3168
END:VEVENT

END:VCALENDAR
