BEGIN:VCALENDAR
VERSION:2.0
PRODID:-//ChamberMaster//Event Calendar 2.0//EN
METHOD:PUBLISH
X-PUBLISHED-TTL:P3D
REFRESH-INTERVAL:P3D
CALSCALE:GREGORIAN
BEGIN:VEVENT
DTSTART:20210218T150000Z
DTEND:20210218T160000Z
X-MICROSOFT-CDO-ALLDAYEVENT:FALSE
SUMMARY:Treated Wood 101 Free Webinar
DESCRIPTION:Treated Wood 101 \n\nWhat is pressure treated wood\, Why use pressure treated wood\, Advantages\, Disadvantages\, FAQ\, Tips\, Care & Maintenance. \n\n\n\nWith Eddy Longshore Continuing education Manager
X-ALT-DESC;FMTTYPE=text/html:<br />\n<span style="font-size:14px\;"><strong>Treated Wood 101&nbsp\;</strong><br />\nWhat is pressure treated wood\, Why use pressure treated wood\, Advantages\, Disadvantages\, FAQ\, Tips\, Care &amp\; Maintenance.&nbsp\;<br />\n<br />\nWith Eddy Longshore Continuing education Manager&nbsp\;</span>
LOCATION:
UID:e.9512.3216
SEQUENCE:3
DTSTAMP:20260425T184815Z
URL:https://members.bablueridge.com/events/details/treated-wood-101-free-webinar-3216
END:VEVENT

END:VCALENDAR
