BEGIN:VCALENDAR
VERSION:2.0
PRODID:-//ChamberMaster//Event Calendar 2.0//EN
METHOD:PUBLISH
X-PUBLISHED-TTL:P3D
REFRESH-INTERVAL:P3D
CALSCALE:GREGORIAN
BEGIN:VEVENT
DTSTART:20221007T213000Z
DTEND:20221008T000000Z
X-MICROSOFT-CDO-ALLDAYEVENT:FALSE
SUMMARY:Tastes of Tour
DESCRIPTION:Join us for an exclusive sneak peek of one of this year's parade homes by Ward Enterprises in Olivette for an exciting culinary event.\n\n\n\nChef Blue and his crew will cook hibachi-style eats while you meet and mingle with the builder\, learn about the community\, and eat and sip as the sun sets. You will also get a ticket to Green Built Alliance's Ciderfest on Saturday (valued at $40). Don't miss your chance!\n\n \n\nTickets are limited - don't delay.
X-ALT-DESC;FMTTYPE=text/html:<div style="color: rgb(34\, 34\, 34)\; font-family: Arial\, Helvetica\, sans-serif\; font-size: small\;">Join us for an exclusive sneak peek&nbsp\;of one of this year&#39\;s parade homes by Ward Enterprises in Olivette for an exciting culinary event.<br />\n<br />\nChef Blue and his crew will cook hibachi-style eats while you meet and mingle with the builder\, learn about the community\, and eat and sip as the sun sets. You will also get a ticket to Green Built Alliance&#39\;s Ciderfest on Saturday (valued at $40). Don&#39\;t miss your chance!</div>\n\n<div style="color: rgb(34\, 34\, 34)\; font-family: Arial\, Helvetica\, sans-serif\; font-size: small\;">&nbsp\;</div>\n\n<div style="color: rgb(34\, 34\, 34)\; font-family: Arial\, Helvetica\, sans-serif\; font-size: small\;">Tickets are limited - don&#39\;t delay.</div>\n
LOCATION:Sent with confirmation
UID:e.9512.4098
SEQUENCE:3
DTSTAMP:20260424T090857Z
URL:https://members.bablueridge.com/events/details/tastes-of-tour-4098
END:VEVENT

END:VCALENDAR
