BEGIN:VCALENDAR
VERSION:2.0
PRODID:-//ChamberMaster//Event Calendar 2.0//EN
METHOD:PUBLISH
X-PUBLISHED-TTL:P3D
REFRESH-INTERVAL:P3D
CALSCALE:GREGORIAN
BEGIN:VEVENT
DTSTART:20201117T203000Z
DTEND:20201117T213000Z
X-MICROSOFT-CDO-ALLDAYEVENT:FALSE
SUMMARY:Social Committee
DESCRIPTION:This Committee works closely with AHBA Staff to coordinate and promote fun events for the general membership - creating netwokring and relationship building opportunities including the Annual Golf Tournament\, Clay Shoot Tournament\, Holiday Party and Battle of the Builders Cornhole Tournament.\n\n\n\n2020 Social Committee Meeting Schedule\n\nJanuary 21\n\nFebruary 25\n\nMarch 24\n\nApril 28\n\nMay - No Meeting\n\nJune 23\n\nJuly - No Meeting\n\nAugust 25\n\nSeptember 22\n\nOctober - No Meeting\n\nNovember - 17\n\nDecember - No Meeting\n\n\n\nI'd like to get involved.
X-ALT-DESC;FMTTYPE=text/html:This Committee works closely with&nbsp\;AHBA&nbsp\;Staff to coordinate and promote fun events for the general membership - creating&nbsp\;netwokring&nbsp\;and relationship building opportunities including the Annual Golf Tournament\, Clay Shoot Tournament\, Holiday Party and Battle of the Builders&nbsp\;Cornhole&nbsp\;Tournament.<br />\n<br />\n2020 Social Committee Meeting Schedule<br />\nJanuary 21<br />\nFebruary 25<br />\nMarch 24<br />\nApril 28<br />\nMay - No Meeting<br />\nJune 23<br />\nJuly - No Meeting<br />\nAugust 25<br />\nSeptember 22<br />\nOctober - No Meeting<br />\nNovember - 17<br />\nDecember - No Meeting<br />\n<br />\n<a href="https://ashevillehba.com/member-resources/get-involved/">I&#39\;d like to get involved.</a>
LOCATION:Hillman Brewery - Sweeten Creek
UID:e.9512.3106
SEQUENCE:3
DTSTAMP:20260425T233703Z
URL:https://members.bablueridge.com/events/details/social-committee-3106
END:VEVENT

END:VCALENDAR
