BEGIN:VCALENDAR
VERSION:2.0
PRODID:-//ChamberMaster//Event Calendar 2.0//EN
METHOD:PUBLISH
X-PUBLISHED-TTL:P3D
REFRESH-INTERVAL:P3D
CALSCALE:GREGORIAN
BEGIN:VEVENT
DTSTART:20210518T193000Z
DTEND:20210518T203000Z
X-MICROSOFT-CDO-ALLDAYEVENT:FALSE
SUMMARY:Social Committee
DESCRIPTION:This Committee works closely with AHBA Staff to coordinate and promote fun events for the general membership - creating networking and relationship-building opportunities including the Annual Golf Tournament\, Clay Shoot Tournament\, Holiday Party\, and Battle of the Builders Cornhole Tournament.\n\n\n\nI'd like to get involved.
X-ALT-DESC;FMTTYPE=text/html:This Committee works closely with&nbsp\;AHBA&nbsp\;Staff to coordinate and promote fun events for the general membership - creating&nbsp\;networking&nbsp\;and relationship-building opportunities including the Annual Golf Tournament\, Clay Shoot Tournament\, Holiday Party\, and Battle of the Builders&nbsp\;Cornhole&nbsp\;Tournament.<br />\n<br />\n<a href="https://ashevillehba.com/member-resources/get-involved/">I&#39\;d like to get involved.</a>
LOCATION:To Be Decided
UID:e.9512.3205
SEQUENCE:3
DTSTAMP:20260425T141047Z
URL:https://members.bablueridge.com/events/details/social-committee-05-25-2021-3205
END:VEVENT

END:VCALENDAR
