BEGIN:VCALENDAR
VERSION:2.0
PRODID:-//ChamberMaster//Event Calendar 2.0//EN
METHOD:PUBLISH
X-PUBLISHED-TTL:P3D
REFRESH-INTERVAL:P3D
CALSCALE:GREGORIAN
BEGIN:VEVENT
DTSTART;VALUE=DATE:20220427
DTEND;VALUE=DATE:20220430
TRANSP:TRANSPARENT
X-MICROSOFT-CDO-ALLDAYEVENT:TRUE
SUMMARY:Skills USA State Conference
DESCRIPTION:SkillsUSA's mission is to empower its members to become world-class workers\, leaders\, and responsible American citizens. We improve the quality of our nation's future skilled workforce through the development of SkillsUSA Framework skills that include personal\, workplace\, and technical skills grounded in academics. Our vision is to produce the most highly skilled workforce in the world\, providing every member the opportunity for career success.
X-ALT-DESC;FMTTYPE=text/html:SkillsUSA&rsquo\;s mission is to empower its members to become world-class workers\, leaders\, and responsible American citizens. We improve the quality of our nation&rsquo\;s future skilled workforce through the development of SkillsUSA Framework skills that include personal\, workplace\, and technical skills grounded in academics. Our vision is to produce the most highly skilled workforce in the world\, providing every member the opportunity for career success.
LOCATION:Greensboro\, NC
UID:e.9512.3702
SEQUENCE:3
DTSTAMP:20260424T215446Z
URL:https://members.bablueridge.com/events/details/skills-usa-state-conference-3702
END:VEVENT

END:VCALENDAR
