BEGIN:VCALENDAR
VERSION:2.0
PRODID:-//ChamberMaster//Event Calendar 2.0//EN
METHOD:PUBLISH
X-PUBLISHED-TTL:P3D
REFRESH-INTERVAL:P3D
CALSCALE:GREGORIAN
BEGIN:VEVENT
DTSTART:20220712T110000Z
DTEND:20220712T140000Z
X-MICROSOFT-CDO-ALLDAYEVENT:FALSE
SUMMARY:Rob Dietz Economic Forecast
DESCRIPTION:Recession Risk Rising?\n\n\n\nNAHB's Chief Economist Robert Dietz will provide an overview of economic and housing market conditions as the economy struggles with the highest pace of inflation in four decades. The Federal Reserve is tightening monetary policy. What does this mean for economic growth\, recession risk\, and interest rates? Dietz will detail macroeconomic factors affecting housing demand and industry-level measures of supply-side headwinds that are limiting the construction sector\, including building material prices. He will also show how local data compare to national trends. Bring your questions for this engaging discussion of the economy with a leading national economist.
X-ALT-DESC;FMTTYPE=text/html:<em>Recession Risk Rising?</em><br />\n<br />\nNAHB&rsquo\;s Chief Economist Robert Dietz will provide an overview of economic and housing market conditions as the economy struggles with the highest pace of inflation in four decades. The Federal Reserve is tightening monetary policy. What does this mean for economic growth\, recession risk\, and interest rates? Dietz will detail macroeconomic factors affecting housing demand and industry-level measures of supply-side headwinds that are limiting the construction sector\, including building material prices. He will also show how local data compare to national trends. Bring your questions for this engaging discussion of the economy with a leading national economist.
LOCATION:Crowne Plaza 1 Resort Dr\, Asheville\, NC 28806
UID:e.9512.3834
SEQUENCE:3
DTSTAMP:20260424T153257Z
URL:https://members.bablueridge.com/events/details/rob-dietz-economic-forecast-3834
END:VEVENT

END:VCALENDAR
