BEGIN:VCALENDAR
VERSION:2.0
PRODID:-//ChamberMaster//Event Calendar 2.0//EN
METHOD:PUBLISH
X-PUBLISHED-TTL:P3D
REFRESH-INTERVAL:P3D
CALSCALE:GREGORIAN
BEGIN:VEVENT
DTSTART:20220823T203000Z
DTEND:20220823T223000Z
X-MICROSOFT-CDO-ALLDAYEVENT:FALSE
SUMMARY:Professional Women in Building Interest Meeting
DESCRIPTION:The Professional Women in Building Council (PWB) is the voice of women in the building industry\, dedicated to promoting industry professionalism and supporting members at the local\, state\, and national levels. This is a meet up for anyone interested in the formation of a group that might meet more regularly. \n\nThere will be food\, drinks\, a photo booth & deejay. We are excited to see who comes out for this first event!\n\nFeel free to bring friends that are non-HBA members but are a part of our industry or interested in joining the industry.
X-ALT-DESC;FMTTYPE=text/html:<p>The Professional Women in Building Council (PWB) is the voice of women in the building industry\, dedicated to promoting industry professionalism and supporting members at the local\, state\, and national levels. This is a meet up for anyone interested in the formation of a group that might meet more regularly.&nbsp\;</p>\n\n<p>There will be food\, drinks\, a photo booth &amp\; deejay. We are excited to see who comes out for this first event!<br />\nFeel free to bring friends that are non-HBA members but are a part of our industry or interested in joining the industry.&nbsp\;</p>\n
LOCATION:Hi-Wire Brewing The Secret Garden (out back) 2 Hunstman Place\, Asheville NC
UID:e.9512.3849
SEQUENCE:3
DTSTAMP:20260424T133812Z
URL:https://members.bablueridge.com/events/details/professional-women-in-building-interest-meeting-3849
END:VEVENT

END:VCALENDAR
