BEGIN:VCALENDAR
VERSION:2.0
PRODID:-//ChamberMaster//Event Calendar 2.0//EN
METHOD:PUBLISH
X-PUBLISHED-TTL:P3D
REFRESH-INTERVAL:P3D
CALSCALE:GREGORIAN
BEGIN:VEVENT
DTSTART:20221016T030000Z
DTEND:20221016T210000Z
X-MICROSOFT-CDO-ALLDAYEVENT:FALSE
SUMMARY:Parade of Homes Tour Weekends
DESCRIPTION:We invite you to join us on the 41st Annual Parade of Homes! Plan to visit a variety of beautiful and inspiring homes through a free self-guided tour over two dynamic weekends taking place on October 8th-9th and 15th-16th\, 2022. Homes will be open from 11 am to 5 pm. Come and browse the latest designs and trends\, get ideas\, visit with Builders\, shop for your new home\, locate your future Builder or simply take pleasure in the Parade!\n\n\n\n\n\nwww.ParadeofHomesAsheville.com
X-ALT-DESC;FMTTYPE=text/html:<p>We invite you to join us on the 41st&nbsp\;Annual Parade of Homes! Plan to visit a variety of beautiful and inspiring homes through a free self-guided tour over two dynamic weekends taking place on October 8th-9th and 15th-16th\, 2022. Homes will be open from 11 am to 5 pm. Come and browse the latest designs and trends\, get ideas\, visit with Builders\, shop for your new home\, locate your future Builder or simply take pleasure in the Parade!<br />\n<br />\n<br />\n<a href="http://www.ParadeofHomesAsheville.com">www.ParadeofHomesAsheville.com</a></p>\n
LOCATION:
UID:e.9512.3979
SEQUENCE:3
DTSTAMP:20260424T075434Z
URL:https://members.bablueridge.com/events/details/parade-of-homes-tour-weekends-3979
END:VEVENT

END:VCALENDAR
