BEGIN:VCALENDAR
VERSION:2.0
PRODID:-//ChamberMaster//Event Calendar 2.0//EN
METHOD:PUBLISH
X-PUBLISHED-TTL:P3D
REFRESH-INTERVAL:P3D
CALSCALE:GREGORIAN
BEGIN:VEVENT
DTSTART:20211016T170000Z
DTEND:20211016T210000Z
X-MICROSOFT-CDO-ALLDAYEVENT:FALSE
SUMMARY:Parade of Homes Tour Weekends
DESCRIPTION:We invite you to join us on the 40th Annual Parade of Homes! Plan to visit a variety of beautiful and inspiring homes through a free self-guided tour over two dynamic weekends taking place on October 9th-10th and 16th-17th\, 2021. Homes will be open from 1 pm to 5 pm. Come and browse the latest designs and trends\, get ideas\, visit with Builders\, shop for your new home\, locate your future Builder or simply take pleasure in the Parade!\n\n\n\n\n\nwww.ParadeofHomesAsheville.com
X-ALT-DESC;FMTTYPE=text/html:<p>We invite you to join us on the 40th Annual Parade of Homes! Plan to visit a variety of beautiful and inspiring homes through a free self-guided tour over two dynamic weekends taking place on October 9th-10th and 16th-17th\, 2021. Homes will be open from 1 pm to 5 pm. Come and browse the latest designs and trends\, get ideas\, visit with Builders\, shop for your new home\, locate your future Builder or simply take pleasure in the Parade!<br />\n<br />\n<br />\n<a href="http://www.ParadeofHomesAsheville.com">www.ParadeofHomesAsheville.com</a></p>\n
LOCATION:
UID:e.9512.3642
SEQUENCE:3
DTSTAMP:20260425T031027Z
URL:https://members.bablueridge.com/events/details/parade-of-homes-tour-weekends-3642
END:VEVENT

END:VCALENDAR
