BEGIN:VCALENDAR
VERSION:2.0
PRODID:-//ChamberMaster//Event Calendar 2.0//EN
METHOD:PUBLISH
X-PUBLISHED-TTL:P3D
REFRESH-INTERVAL:P3D
CALSCALE:GREGORIAN
BEGIN:VEVENT
DTSTART:20220721T213000Z
DTEND:20220721T230000Z
X-MICROSOFT-CDO-ALLDAYEVENT:FALSE
SUMMARY:Parade of Homes Cover Auction & Featured Builder Raffle
DESCRIPTION:Attend our auction to be the Front cover of our 2022 Parade of Homes Magazine. We will also be drawing the raffle for our Featured Builder! You won't want to miss this!
X-ALT-DESC;FMTTYPE=text/html:Attend our auction to be the Front cover of our 2022 Parade of Homes Magazine. We will also be drawing the raffle for our Featured Builder! You won&#39\;t want to miss this!
LOCATION:Hi-Wire Garden Party 2A Huntsman Pl\, Asheville\, NC 28803
UID:e.9512.3847
SEQUENCE:3
DTSTAMP:20260424T155427Z
URL:https://members.bablueridge.com/events/details/parade-of-homes-cover-auction-featured-builder-raffle-3847
END:VEVENT

END:VCALENDAR
