BEGIN:VCALENDAR
VERSION:2.0
PRODID:-//ChamberMaster//Event Calendar 2.0//EN
METHOD:PUBLISH
X-PUBLISHED-TTL:P3D
REFRESH-INTERVAL:P3D
CALSCALE:GREGORIAN
BEGIN:VEVENT
DTSTART:20210423T193000Z
DTEND:20210423T203000Z
X-MICROSOFT-CDO-ALLDAYEVENT:FALSE
SUMMARY:Parade of Homes Builder Info Session
DESCRIPTION:Learn how to participate\, what's new for the 2021 Parade\, tips and tricks to enhance your Parade exposure and make the most of your investment. \n\n\n\n\n\nwww.ParadeofHomesAsheville.com
X-ALT-DESC;FMTTYPE=text/html:Learn how to participate\, what&#39\;s new for the 2021 Parade\, tips and tricks to enhance your Parade exposure and make the most of your investment.&nbsp\;<br />\n<br />\n<br />\n<a href="http://www.ParadeofHomesAsheville.com">www.ParadeofHomesAsheville.com</a>
LOCATION:Zoom Call - info will be sent out prior to the call.
UID:e.9512.3354
SEQUENCE:3
DTSTAMP:20260425T154520Z
URL:https://members.bablueridge.com/events/details/parade-of-homes-builder-info-session-3354
END:VEVENT

END:VCALENDAR
