BEGIN:VCALENDAR
VERSION:2.0
PRODID:-//ChamberMaster//Event Calendar 2.0//EN
METHOD:PUBLISH
X-PUBLISHED-TTL:P3D
REFRESH-INTERVAL:P3D
CALSCALE:GREGORIAN
BEGIN:VEVENT
DTSTART:20210223T150000Z
DTEND:20210223T200000Z
X-MICROSOFT-CDO-ALLDAYEVENT:FALSE
SUMMARY:NCHBA's 1st Quarter Meeting & Legislative Conference
DESCRIPTION:The NCHBA holds four meetings each year\, during which the NCHBA Committees and Board of Directors meet. The Quarterly Meetings are an opportunity for members from across the state to meet and discuss issues affecting the home building industry. The ideas\, goals\, and plans discussed at the meetings help guide the future of the association and the industry. All members are invited to join a committee of their choice and sit in on the Board of Directors meetings.\n\n\n\n10:00 am - 11:00 am   Executive Committee Meeting \n\n2:00 pm - 3:00 pm   Board of Directors Meeting\n\n\n\nYou will use the same Zoom meeting link below to access both meetings.\n\n\n\nTo join our virtual Executive Committee and Board of Directors meetings on Tuesday\, February 23:\n\nJoin via computer: https://us02web.zoom.us/j/84350305332\n\nDial in: 1 (301) 715-8592\n\nMeeting ID is 843 5030 5332
X-ALT-DESC;FMTTYPE=text/html:<span style="color: rgb(34\, 34\, 34)\; font-family: Verdana\, Arial\, Helvetica\, sans-serif\; font-size: 12px\;">The NCHBA holds four meetings each year\, during which the NCHBA Committees and Board of Directors meet. The Quarterly Meetings are an opportunity for members from across the state to meet and discuss issues affecting the home building industry. The ideas\, goals\, and plans discussed at the meetings help guide the future of the association and the industry. All members are invited to join a committee of their choice and sit in on the Board of Directors meetings.</span><br />\n<br />\n10:00 am - 11:00 am &mdash\; Executive Committee Meeting&nbsp\;<br />\n2:00 pm - 3:00 pm &mdash\; Board of Directors Meeting<br />\n<br />\nYou will use the same Zoom meeting link below to access both meetings.<br />\n<br />\nTo join our virtual Executive Committee and Board of Directors meetings on Tuesday\, February 23:<br />\nJoin via computer: <a href="https://us02web.zoom.us/j/84350305332">https://us02web.zoom.us/j/84350305332</a><br />\nDial in: 1 (301) 715-8592<br />\nMeeting ID is 843 5030 5332
LOCATION:You will use the same Zoom meeting link below to access both meetings. To join our virtual Executive Committee and Board of Directors meetings on Tuesday\, February 23: Join via computer: https://us02web.zoom.us/j/84350305332 Dial in: 1 (301) 715-8592 Meeting ID is 843 5030 5332
UID:e.9512.3198
SEQUENCE:3
DTSTAMP:20260425T203357Z
URL:https://members.bablueridge.com/events/details/nchba-s-1st-quarter-meeting-legislative-conference-3198
END:VEVENT

END:VCALENDAR
