BEGIN:VCALENDAR
VERSION:2.0
PRODID:-//ChamberMaster//Event Calendar 2.0//EN
METHOD:PUBLISH
X-PUBLISHED-TTL:P3D
REFRESH-INTERVAL:P3D
CALSCALE:GREGORIAN
BEGIN:VEVENT
DTSTART:20230314T190000Z
DTEND:20230314T210000Z
X-MICROSOFT-CDO-ALLDAYEVENT:FALSE
SUMMARY:NCHBA Region 8 Meeting
DESCRIPTION:The North Carolina Home Builders Association invites you to join the local HBAs and members in your area at Kenilworth Center in Asheville on March 14 at 3pm am for the Region 8 meeting.\n\n\n\nDuring this time\, you'll learn how to make the most of your membership benefits\, how NCHBA's legislative victories protect homebuilding in our state and meet some of the state association's staff and leadership.\n\n\n\nThis event is free to attend for HBA members\, however\, we ask that you RSVP at the link below in order to give us an accurate count of expected attendees.\n\n\n\nRSVP Here
X-ALT-DESC;FMTTYPE=text/html:The North Carolina Home Builders Association invites you to join the local HBAs and members in your area at Kenilworth Center in Asheville on March 14 at 3pm am for the Region 8 meeting.<br />\n<br />\nDuring this time\, you&#39\;ll learn how to make the most of your membership benefits\, how NCHBA&#39\;s legislative victories protect homebuilding in our state and meet some of the state association&#39\;s staff and leadership.<br />\n<br />\nThis event is free to attend for HBA members\, however\, we ask that you RSVP at the link below in order to give us an accurate count of expected attendees.<br />\n<br />\n<a href="https://docs.google.com/forms/d/e/1FAIpQLSdhmNkUpoOfhRdi9g7mEEGb-PnCplrSzlnI0T_gA3C7M-4wPg/viewform"><span style="font-size:14px\;"><em><strong>RSVP Here</strong></em></span></a>
LOCATION:The Kenilworth Center 4 Chiles Avenue Asheville\, NC 28803
UID:e.9512.4740
SEQUENCE:3
DTSTAMP:20260424T025025Z
URL:https://members.bablueridge.com/events/details/nchba-region-8-meeting-4740
END:VEVENT

END:VCALENDAR
