BEGIN:VCALENDAR
VERSION:2.0
PRODID:-//ChamberMaster//Event Calendar 2.0//EN
METHOD:PUBLISH
X-PUBLISHED-TTL:P3D
REFRESH-INTERVAL:P3D
CALSCALE:GREGORIAN
BEGIN:VEVENT
DTSTART:20220318T140000Z
DTEND:20220318T160000Z
X-MICROSOFT-CDO-ALLDAYEVENT:FALSE
SUMMARY:NCHBA Region 10 Meeting
DESCRIPTION:The North Carolina Home Builders Association invites you to join the local HBAs and members in your area at Kenilworth Center in Asheville on Friday\, March 18 at 10:00 am for the Region 10 meeting.\n\n\n\nDuring this time\, you'll learn how to make the most of your membership benefits\, how NCHBA's legislative victories protect homebuilding in our state\, and meet some of the state association's staff and leadership.\n\n\n\nThis event is free to attend for HBA members\, however\, we ask that you RSVP at the link below in order to give us an accurate count of expected attendees.\n\n\n\nRSVP Here
X-ALT-DESC;FMTTYPE=text/html:The North Carolina Home Builders Association invites you to join the local HBAs and members in your area at Kenilworth Center in Asheville on Friday\, March 18 at 10:00 am for the Region 10 meeting.<br />\n<br />\nDuring this time\, you&#39\;ll learn how to make the most of your membership benefits\, how NCHBA&#39\;s legislative victories protect homebuilding in our state\, and meet some of the state association&#39\;s staff and leadership.<br />\n<br />\nThis event is free to attend for HBA members\, however\, we ask that you RSVP at the link below in order to give us an accurate count of expected attendees.<br />\n<br />\n<em><strong><a href="https://r20.rs6.net/tn.jsp?f=0018lfMeVGuP8vBZbrPEevikTqXF9orWiXCGZYsRmD3JZOzFXH_G6KApph1rfWAISHFis35DWMkRsSSOyhmnIqU8ZrrZx9inX4SroDqy0KBPReyL6uXdAnBt9eRXm3_0o6VErSrJJgmdWq71qLSNB-6lSAtBy4XCLMl&amp\;c=lmjSc39BQsAKpiCN6IhCzrzfHYm2t8_q9EJVYT_v-RAP4OL9zNEeMw==&amp\;ch=V0rfMgaib7htgi2IYhBvSG4QLtXKdInNRH-6E0qfRb0tR-BXnao_kQ==">RSVP Here</a></strong></em>
LOCATION:The Kenilworth Center 4 Chiles Avenue Asheville\, NC 28803
UID:e.9512.3823
SEQUENCE:3
DTSTAMP:20260424T215824Z
URL:https://members.bablueridge.com/events/details/nchba-region-10-meeting-3823
END:VEVENT

END:VCALENDAR
