BEGIN:VCALENDAR
VERSION:2.0
PRODID:-//ChamberMaster//Event Calendar 2.0//EN
METHOD:PUBLISH
X-PUBLISHED-TTL:P3D
REFRESH-INTERVAL:P3D
CALSCALE:GREGORIAN
BEGIN:VEVENT
DTSTART:20220607T150000Z
DTEND:20220608T200000Z
X-MICROSOFT-CDO-ALLDAYEVENT:FALSE
SUMMARY:NCHBA Legislative Conference & 2nd Quarter Board Meeting
DESCRIPTION:NCHBA will hold its 2nd Quarter Executive Committee and Board of Directors meeting on June 7-8th.
X-ALT-DESC;FMTTYPE=text/html:<div style="color: rgb(0\, 0\, 0)\; font-family: Arial\, Verdana\, Helvetica\, sans-serif\; font-size: 16px\;"><span style="font-family:arial\;"><span style="font-size:14px\;">NCHBA will hold its 2nd Quarter Executive Committee and Board of Directors meeting on June 7-8th.</span></span></div>\n
LOCATION:Raleigh\, NC
UID:e.9512.3704
SEQUENCE:3
DTSTAMP:20260424T172322Z
URL:https://members.bablueridge.com/events/details/nchba-legislative-conference-2nd-quarter-board-meeting-3704
END:VEVENT

END:VCALENDAR
