BEGIN:VCALENDAR
VERSION:2.0
PRODID:-//ChamberMaster//Event Calendar 2.0//EN
METHOD:PUBLISH
X-PUBLISHED-TTL:P3D
REFRESH-INTERVAL:P3D
CALSCALE:GREGORIAN
BEGIN:VEVENT
DTSTART:20210525T150000Z
DTEND:20210525T200000Z
X-MICROSOFT-CDO-ALLDAYEVENT:FALSE
SUMMARY:NCHBA Legislative Conference & 2nd Quarter Board Meeting
DESCRIPTION:NCHBA will hold its 2nd Quarter Executive Committee and Board of Directors meetings virtually on Tuesday\, May 25.\n\nOur NCHBA committees will meet virtually over the coming weeks leading up to the 2nd Quarter Meeting. Click here to view a current list of committee meeting dates and times.\n\nNote: the minutes from our 1st Quarter Meeting are now available.\n\n\nIn lieu of our Legislative Reception and visits\, we will hold a special virtual Legislative Day Event at 11 am on Tuesday\, May 25. This event will include the Legislative and Land Development committees. We will announce the legislators who will be joining us in the coming days.\n\n \n11:00 am-noon   Legislative Day Event\, including Legislative and Land Development committees\n\n \n\n2:00 pm - 3:00 pm   Executive Committee Meeting\n\n3:00 pm - 4:00 pm   Board of Directors Meeting\n\n\n\nYou will use the same Zoom meeting link below to access these meetings.\n\nTo join our virtual Legislative Committee\, Executive Committee and Board of Directors meetings on Tuesday\, May 25:\n\nJoin via computer: https://us02web.zoom.us/j/82473261178\n\nDial-in: 1 (301) 715-8592\n\nMeeting ID is 824 7326 1178
X-ALT-DESC;FMTTYPE=text/html:<div style="color: rgb(0\, 0\, 0)\; font-family: Arial\, Verdana\, Helvetica\, sans-serif\; font-size: 16px\;"><span style="font-family:arial\;"><span style="font-size:14px\;">NCHBA will hold its 2nd Quarter Executive Committee and Board of Directors meetings virtually on&nbsp\;<span style="font-weight: bold\;">Tuesday\, May 25</span>.</span></span></div>\n\n<div style="color: rgb(0\, 0\, 0)\; font-family: Arial\, Verdana\, Helvetica\, sans-serif\; font-size: 16px\;"><span style="font-family:arial\;"><span style="font-size:14px\;">Our NCHBA committees will meet virtually over the coming weeks leading up to the 2nd Quarter Meeting.&nbsp\;<a data-saferedirecturl="https://www.google.com/url?q=http://r20.rs6.net/tn.jsp?f%3D001gq6JJJlovUZ2mG9UtLasxsFFc9vFW7H-ryomgnWc-eWim3ZrMy3RRpANr3z7rl2oqelI0Cw9rF_fiYeSh0a-Atf9slqehNZl3kB0CcxB7LIFA2WX9FrW0MdRXg4mSB1K13Do1J9EDfgI4zqb2VoQZ3KOnfYs4Yxl87hZgnGqZ-UieKJcRujgfxfQqKjjK8pWAfyun7YlxVoTCEaLcv0oDRoIod6kwWTYlqJ-w54Pnn-wLP5e3rpdnHOZqay-hO8u%26c%3DPOtrbx5xlgTugkZF66rxXq52-Wy3K9KOVyOr8_0sy1pleZ4KUL_mRQ%3D%3D%26ch%3DMZWLPDsdpylJA2TuJU1fkxj8bjOadoYia7A7x5zlndoPD0QrVSnbPA%3D%3D%26jrc%3D1&amp\;source=gmail&amp\;ust=1619287341492000&amp\;usg=AFQjCNGXzs4vWGyiKxO3b0ARXdM4Z3Ef-A" href="http://r20.rs6.net/tn.jsp?f=001gq6JJJlovUZ2mG9UtLasxsFFc9vFW7H-ryomgnWc-eWim3ZrMy3RRpANr3z7rl2oqelI0Cw9rF_fiYeSh0a-Atf9slqehNZl3kB0CcxB7LIFA2WX9FrW0MdRXg4mSB1K13Do1J9EDfgI4zqb2VoQZ3KOnfYs4Yxl87hZgnGqZ-UieKJcRujgfxfQqKjjK8pWAfyun7YlxVoTCEaLcv0oDRoIod6kwWTYlqJ-w54Pnn-wLP5e3rpdnHOZqay-hO8u&amp\;c=POtrbx5xlgTugkZF66rxXq52-Wy3K9KOVyOr8_0sy1pleZ4KUL_mRQ==&amp\;ch=MZWLPDsdpylJA2TuJU1fkxj8bjOadoYia7A7x5zlndoPD0QrVSnbPA==&amp\;jrc=1" rel="noopener noreferrer" style="color: rgb(0\, 0\, 255)\;" target="_blank">Click here to view a current list of committee meeting dates and times</a>.</span></span></div>\n\n<div style="color: rgb(0\, 0\, 0)\; font-family: Arial\, Verdana\, Helvetica\, sans-serif\; font-size: 16px\;"><span style="font-family:arial\;"><span style="font-size:14px\;">Note:&nbsp\;<a data-saferedirecturl="https://www.google.com/url?q=http://r20.rs6.net/tn.jsp?f%3D001gq6JJJlovUZ2mG9UtLasxsFFc9vFW7H-ryomgnWc-eWim3ZrMy3RRpANr3z7rl2oNPdKr58bXmQBGmVPjyi7bfptVygGfECR7tNW16jwU0qrGjw7Wc4kEwA3AJNQwYKUUpgtFVOpW7mOS2n9q5_RrcnGoI8wANgs_oAJO6NNF1qB6HIjAb8hkO1ybWBGnXfkxFK7DdntqEHNun8-xMNI0NTOfmdlAqqShSvfoeL-EzI%3D%26c%3DPOtrbx5xlgTugkZF66rxXq52-Wy3K9KOVyOr8_0sy1pleZ4KUL_mRQ%3D%3D%26ch%3DMZWLPDsdpylJA2TuJU1fkxj8bjOadoYia7A7x5zlndoPD0QrVSnbPA%3D%3D%26jrc%3D1&amp\;source=gmail&amp\;ust=1619287341492000&amp\;usg=AFQjCNFGvhs7f-CBkth-wU1EmILq43iXiA" href="http://r20.rs6.net/tn.jsp?f=001gq6JJJlovUZ2mG9UtLasxsFFc9vFW7H-ryomgnWc-eWim3ZrMy3RRpANr3z7rl2oNPdKr58bXmQBGmVPjyi7bfptVygGfECR7tNW16jwU0qrGjw7Wc4kEwA3AJNQwYKUUpgtFVOpW7mOS2n9q5_RrcnGoI8wANgs_oAJO6NNF1qB6HIjAb8hkO1ybWBGnXfkxFK7DdntqEHNun8-xMNI0NTOfmdlAqqShSvfoeL-EzI=&amp\;c=POtrbx5xlgTugkZF66rxXq52-Wy3K9KOVyOr8_0sy1pleZ4KUL_mRQ==&amp\;ch=MZWLPDsdpylJA2TuJU1fkxj8bjOadoYia7A7x5zlndoPD0QrVSnbPA==&amp\;jrc=1" rel="noopener noreferrer" style="color: rgb(0\, 0\, 255)\; font-weight: bold\;" target="_blank">the minutes from our 1st Quarter Meeting are now available</a>.</span></span></div>\n<br />\n<span style="font-family:arial\;"><span style="font-size:14px\;">In lieu of our Legislative Reception and visits\, we will hold a special virtual Legislative Day Event at 11 am on Tuesday\, May 25. This event will include the Legislative and Land Development committees. We will announce the legislators who will be joining us in the coming days.</span></span><br />\n&nbsp\;\n<div><span style="font-family:arial\;"><span style="font-size:14px\;"><span style="font-weight: bold\;">11:00 am-noon&nbsp\;</span>&mdash\;<span style="font-weight: bold\;">&nbsp\;Legislative Day Event\, including Legislative and Land Development committees</span></span></span></div>\n\n<div>&nbsp\;</div>\n\n<div><span style="font-family:arial\;"><span style="font-size:14px\;"><span style="font-weight: bold\;">2:00 pm - 3:00 pm &mdash\; Executive Committee Meeting</span></span></span></div>\n\n<div><span style="font-size:14px\;"><span style="font-family:arial\;"><span style="font-weight: bold\;">3:00 pm - 4:00 pm &mdash\;</span>&nbsp\;</span><span style="font-weight: bold\;"><span style="font-family:arial\;">Board of Directors Meeting</span></span></span><br />\n<br />\n<span style="font-family: Arial\, Verdana\, Helvetica\, sans-serif\; font-size: 14px\; background-color: rgb(255\, 255\, 255)\;">You will use the same Zoom meeting link below to access these meetings.</span><br style="font-family: Arial\, Verdana\, Helvetica\, sans-serif\; font-size: 14px\; background-color: rgb(255\, 255\, 255)\;" />\n<span style="font-family: Arial\, Verdana\, Helvetica\, sans-serif\; font-size: 14px\; background-color: rgb(255\, 255\, 255)\;">To join our virtual Legislative Committee\, Executive Committee and Board of Directors meetings on Tuesday\, May 25:</span><br style="font-family: Arial\, Verdana\, Helvetica\, sans-serif\; font-size: 14px\; background-color: rgb(255\, 255\, 255)\;" />\n<span style="font-family: Arial\, Verdana\, Helvetica\, sans-serif\; font-size: 14px\; background-color: rgb(255\, 255\, 255)\;">Join via computer:&nbsp\;</span><a href="http://r20.rs6.net/tn.jsp?f=001gq6JJJlovUZ2mG9UtLasxsFFc9vFW7H-ryomgnWc-eWim3ZrMy3RRmHrtWdzYal9Qrn_Tmq2hGHye4s_G18dgIYjeVgxEswt-ys2CS6MMscbq4zDHTnPAGYWWzYEwlsDeaZXmHD-D1YFhsVORDRNpbueVluhaN6mJUNpGNfiNJE=&amp\;c=POtrbx5xlgTugkZF66rxXq52-Wy3K9KOVyOr8_0sy1pleZ4KUL_mRQ==&amp\;ch=MZWLPDsdpylJA2TuJU1fkxj8bjOadoYia7A7x5zlndoPD0QrVSnbPA==&amp\;jrc=1" style="color: rgb(7\, 130\, 193)\; font-family: Arial\, Verdana\, Helvetica\, sans-serif\; font-size: 14px\; background-color: rgb(255\, 255\, 255)\;">https://us02web.zoom.us/j/82473261178</a><br style="font-family: Arial\, Verdana\, Helvetica\, sans-serif\; font-size: 14px\; background-color: rgb(255\, 255\, 255)\;" />\n<span style="font-family: Arial\, Verdana\, Helvetica\, sans-serif\; font-size: 14px\; background-color: rgb(255\, 255\, 255)\;">Dial-in: 1 (301) 715-8592</span><br style="font-family: Arial\, Verdana\, Helvetica\, sans-serif\; font-size: 14px\; background-color: rgb(255\, 255\, 255)\;" />\n<span style="font-family: Arial\, Verdana\, Helvetica\, sans-serif\; font-size: 14px\; background-color: rgb(255\, 255\, 255)\;">Meeting ID is 824 7326 1178</span></div>\n
LOCATION:Join via computer: https://us02web.zoom.us/j/82473261178 Dial-in: 1 (301) 715-8592 Meeting ID is 824 7326 1178
UID:e.9512.3384
SEQUENCE:3
DTSTAMP:20260425T141217Z
URL:https://members.bablueridge.com/events/details/nchba-legislative-conference-2nd-quarter-board-meeting-3384
END:VEVENT

END:VCALENDAR
