BEGIN:VCALENDAR
VERSION:2.0
PRODID:-//ChamberMaster//Event Calendar 2.0//EN
METHOD:PUBLISH
X-PUBLISHED-TTL:P3D
REFRESH-INTERVAL:P3D
CALSCALE:GREGORIAN
BEGIN:VEVENT
DTSTART;VALUE=DATE:20211214
DTEND;VALUE=DATE:20211215
TRANSP:TRANSPARENT
X-MICROSOFT-CDO-ALLDAYEVENT:TRUE
SUMMARY:NCHBA 4th Quarter Board Meeting & Installation
DESCRIPTION:The NCHBA holds four meetings each year\, during which the NCHBA Committees and Board of Directors meet. The Quarterly Meetings are an opportunity for members from across the state to meet and discuss issues affecting the home building industry. The ideas\, goals\, and plans discussed at the meetings help guide the future of the association and the industry. All members are invited to join a committee of their choice and sit in on the Board of Directors meetings.\n\n\n\nRegister here.
X-ALT-DESC;FMTTYPE=text/html:The NCHBA holds four meetings each year\, during which the NCHBA Committees and Board of Directors meet. The Quarterly Meetings are an opportunity for members from across the state to meet and discuss issues affecting the home building industry. The ideas\, goals\, and plans discussed at the meetings help guide the future of the association and the industry. All members are invited to join a committee of their choice and sit in on the Board of Directors meetings.<br />\n<br />\n<a href="https://www.nchba.org/education-events/quarterly-meetings/4th-quarter-meeting-registration/">Register here.</a>
LOCATION:Pinehurst
UID:e.9512.3644
SEQUENCE:3
DTSTAMP:20260425T030905Z
URL:https://members.bablueridge.com/events/details/nchba-4th-quarter-board-meeting-installation-3644
END:VEVENT

END:VCALENDAR
