BEGIN:VCALENDAR
VERSION:2.0
PRODID:-//ChamberMaster//Event Calendar 2.0//EN
METHOD:PUBLISH
X-PUBLISHED-TTL:P3D
REFRESH-INTERVAL:P3D
CALSCALE:GREGORIAN
BEGIN:VEVENT
DTSTART;VALUE=DATE:20220308
DTEND;VALUE=DATE:20220309
TRANSP:TRANSPARENT
X-MICROSOFT-CDO-ALLDAYEVENT:TRUE
SUMMARY:NCHBA 1st Quarter Board Meeting
DESCRIPTION:The NCHBA holds four meetings each year\, during which the NCHBA Committees and Board of Directors meet. The Quarterly Meetings are an opportunity for members from across the state to meet and discuss issues affecting the home building industry. The ideas\, goals\, and plans discussed at the meetings help guide the future of the association and the industry. All members are invited to join a committee of their choice and sit in on the Board of Directors meetings.\n\n\n\nClick here for registration
X-ALT-DESC;FMTTYPE=text/html:The NCHBA holds four meetings each year\, during which the NCHBA Committees and Board of Directors meet. The Quarterly Meetings are an opportunity for members from across the state to meet and discuss issues affecting the home building industry. The ideas\, goals\, and plans discussed at the meetings help guide the future of the association and the industry. All members are invited to join a committee of their choice and sit in on the Board of Directors meetings.<br />\n<br />\n<a href="https://www.nchba.org/1st-quarter-meeting-registration/"><strong>Click here for registration</strong></a>
LOCATION:Raleigh\, NC
UID:e.9512.3697
SEQUENCE:3
DTSTAMP:20260424T234315Z
URL:https://members.bablueridge.com/events/details/nchba-1st-quarter-board-meeting-3697
END:VEVENT

END:VCALENDAR
