BEGIN:VCALENDAR
VERSION:2.0
PRODID:-//ChamberMaster//Event Calendar 2.0//EN
METHOD:PUBLISH
X-PUBLISHED-TTL:P3D
REFRESH-INTERVAL:P3D
CALSCALE:GREGORIAN
BEGIN:VEVENT
DTSTART;VALUE=DATE:20220614
DTEND;VALUE=DATE:20220620
TRANSP:TRANSPARENT
X-MICROSOFT-CDO-ALLDAYEVENT:TRUE
SUMMARY:NAHB Spring Leadership Meeting
DESCRIPTION:NAHB's governance is comprised of the Leadership Council and the Board of Directors. The Leadership Council is charged with setting the policy and priorities of the Association\, furthering the work of NAHB's committees and councils. The Leadership Council and the committees will meet three times each year: once during the International Builders' Show  (IBS)\, once during the Spring Legislative Conference and Leadership Meetings and again at the Fall Leadership Meetings. Additional information about travel\, hotel\, and specific meeting dates and times will be provided on the specific meeting page for each event as it nears.
X-ALT-DESC;FMTTYPE=text/html:<span style="font-size:14px\;"><span style="color: rgb(48\, 49\, 51)\; font-family: Roboto\;">NAHB&rsquo\;s governance is comprised of the&nbsp\;</span><a href="https://www.nahb.org/NAHB-Community/Leadership-and-Committees/Leadership-Council" style="box-sizing: inherit\; background-image: initial\; background-position: initial\; background-size: initial\; background-repeat: initial\; background-attachment: initial\; background-origin: initial\; background-clip: initial\; color: rgb(0\, 138\, 223)\; transition: color 0.28s cubic-bezier(0.4\, 0\, 0.2\, 1) 0s\, color 0.28s cubic-bezier(0.4\, 0\, 0.2\, 1) 0s\; font-weight: bold\; font-family: Roboto\; font-size: 18px\;">Leadership Council</a><span style="color: rgb(48\, 49\, 51)\; font-family: Roboto\;">&nbsp\;and the&nbsp\;</span><a href="https://www.nahb.org/NAHB-Community/Leadership-and-Committees/Board-of-Directors" style="box-sizing: inherit\; background-image: initial\; background-position: initial\; background-size: initial\; background-repeat: initial\; background-attachment: initial\; background-origin: initial\; background-clip: initial\; color: rgb(0\, 138\, 223)\; transition: color 0.28s cubic-bezier(0.4\, 0\, 0.2\, 1) 0s\, color 0.28s cubic-bezier(0.4\, 0\, 0.2\, 1) 0s\; font-weight: bold\; font-family: Roboto\; font-size: 18px\;">Board of Directors</a><span style="color: rgb(48\, 49\, 51)\; font-family: Roboto\;">. The Leadership Council is charged with setting the policy and priorities of the Association\, furthering the work of NAHB&rsquo\;s committees and councils. The Leadership Council and the committees will meet three times each year: once during the&nbsp\;</span></span><span style="font-size:12px\;"><a href="https://buildersshow.com/Home/" rel="noopener noreferrer" style="box-sizing: inherit\; background-image: initial\; background-position: initial\; background-size: initial\; background-repeat: initial\; background-attachment: initial\; background-origin: initial\; background-clip: initial\; color: rgb(0\, 138\, 223)\; transition: color 0.28s cubic-bezier(0.4\, 0\, 0.2\, 1) 0s\, color 0.28s cubic-bezier(0.4\, 0\, 0.2\, 1) 0s\; font-weight: bold\; font-family: Roboto\; font-size: 18px\;" target="_blank">International Builders&#39\; Show&reg\;</a></span><span style="font-size:14px\;"><span style="color: rgb(48\, 49\, 51)\; font-family: Roboto\;">&nbsp\;(IBS)\, once during the Spring Legislative Conference and Leadership Meetings and again at the Fall Leadership Meetings. Additional information about travel\, hotel\, and specific meeting dates and times will be provided on the specific meeting page for each event as it nears.&nbsp\;</span></span>
LOCATION:
UID:e.9512.3706
SEQUENCE:3
DTSTAMP:20260424T172024Z
URL:https://members.bablueridge.com/events/details/nahb-spring-leadership-meeting-3706
END:VEVENT

END:VCALENDAR
