BEGIN:VCALENDAR
VERSION:2.0
PRODID:-//ChamberMaster//Event Calendar 2.0//EN
METHOD:PUBLISH
X-PUBLISHED-TTL:P3D
REFRESH-INTERVAL:P3D
CALSCALE:GREGORIAN
BEGIN:VEVENT
DTSTART;VALUE=DATE:20200918
DTEND;VALUE=DATE:20200919
TRANSP:TRANSPARENT
X-MICROSOFT-CDO-ALLDAYEVENT:TRUE
SUMMARY:NAHB Chief Lobbyist Jim Tobin & Rob Dietz Economic Forecast & Lumber Price Update
DESCRIPTION:Jim Tobin\, Chief Lobbyist for The National Association of Home Builders (NAHB)\, has just been added as a speaker for tomorrow's Economic Forecast & Lumber Price Update at 10:30 AM. Tobin will discuss how NAHB is seeking action from Congress and the Trump Administration to address soaring lumber prices and the limited supply of other building materials.\n					\n				\n			\n			\n		\n	\n\n\n\n	\n		\n			\n			\n				\n					\n						\n						 \n\n						\n						Meanwhile Rob Dietz\, NAHB Chief Economist\, will provide the latest economic data behind the sharp rise in the price of lumber and how long these increased costs may last. He will also update on the broader US economic trends amid the COVID-19 pandemic.\n						\n						\n					\n				\n			\n			\n		\n	\n\n\n\n	\n		\n			\n			\n				\n					\n						\n						 \n\n						\n						To join our virtual Town Hall tomorrow Friday\, September 18 at 10:30 am:\n\n						\n							join via computer: https://global.gotomeeting.com/join/312302805\n							or dial in: +1 (571) 317-3122\n							access code is 312-302-805\n						\n\n						 \n\n						If you dial in\, please mute your phone. If you wish to submit a question\, please email it to Tim Minton (tminton@nchba.org) before\, or during\, the call.\n\n						 \n\n						You do not want to miss this important update!
X-ALT-DESC;FMTTYPE=text/html:<table border="0" cellpadding="0" cellspacing="0" style="border-collapse: collapse\; table-layout: fixed\; color: rgb(34\, 34\, 34)\; font-family: Roboto\, RobotoDraft\, Helvetica\, Arial\, sans-serif\; font-size: small\; min-width: 100%\;" width="100%">\n	<tbody>\n		<tr>\n			<td align="" class="m_438534915496248286editor-col m_438534915496248286OneColumnMobile" style="margin: 0px\;" valign="top" width="100%">\n			<table border="0" cellpadding="0" cellspacing="0" style="border-collapse: collapse\; table-layout: fixed\; min-width: 100%\;" width="100%">\n				<tbody>\n					<tr>\n						<td align="left" class="m_438534915496248286editor-text m_438534915496248286editor-text" style="font-family: Arial\, Verdana\, Helvetica\, sans-serif\; margin: 0px\; font-size: 18px\; color: rgb(0\, 0\, 0)\; display: block\; overflow-wrap: break-word\; line-height: 1.2\; padding: 10px 40px\;" valign="top"><span style="font-size: 16px\; font-weight: bold\;">Jim Tobin</span><span style="font-size: 16px\;">\, Chief Lobbyist for The National Association of Home Builders (NAHB)\, has just been added as a speaker for tomorrow&#39\;s Economic Forecast &amp\; Lumber Price Update at 10:30 AM. Tobin will discuss how NAHB is seeking action from Congress and the Trump Administration to address soaring lumber prices and the limited supply of other building materials.</span></td>\n					</tr>\n				</tbody>\n			</table>\n			</td>\n		</tr>\n	</tbody>\n</table>\n\n<table border="0" cellpadding="0" cellspacing="0" style="border-collapse: collapse\; table-layout: fixed\; color: rgb(34\, 34\, 34)\; font-family: Roboto\, RobotoDraft\, Helvetica\, Arial\, sans-serif\; font-size: small\; min-width: 100%\;" width="100%">\n	<tbody>\n		<tr>\n			<td align="left" class="m_438534915496248286editor-col m_438534915496248286OneColumnMobile" style="margin: 0px\; text-align: center\;" valign="top" width="100%">\n			<table border="0" cellpadding="0" cellspacing="0" style="border-collapse: collapse\; table-layout: fixed\; min-width: 100%\;" width="100%">\n				<tbody>\n					<tr>\n						<td align="left" class="m_438534915496248286editor-text" style="font-family: Arial\, Verdana\, Helvetica\, sans-serif\; margin: 0px\; font-size: 18px\; color: rgb(0\, 0\, 0)\; display: block\; overflow-wrap: break-word\; line-height: 1.2\; padding: 10px 40px\;" valign="top">\n						<div>&nbsp\;</div>\n\n						<div>\n						<div align="left"><span style="font-size: 16px\;">Meanwhile&nbsp\;</span><span style="font-size: 16px\; font-weight: bold\;">Rob Dietz</span><span style="font-size: 16px\;">\, NAHB Chief Economist\, will provide the latest economic data behind the sharp rise in the price of lumber and how long these increased costs may last. He will also update on the broader US economic trends amid the COVID-19 pandemic.</span></div>\n						</div>\n						</td>\n					</tr>\n				</tbody>\n			</table>\n			</td>\n		</tr>\n	</tbody>\n</table>\n\n<table border="0" cellpadding="0" cellspacing="0" style="border-collapse: collapse\; table-layout: fixed\; color: rgb(34\, 34\, 34)\; font-family: Roboto\, RobotoDraft\, Helvetica\, Arial\, sans-serif\; font-size: small\; min-width: 100%\;" width="100%">\n	<tbody>\n		<tr>\n			<td align="" bgcolor="FFFFFF" class="m_438534915496248286editor-col m_438534915496248286OneColumnMobile" style="margin: 0px\;" valign="top" width="100%">\n			<table border="0" cellpadding="0" cellspacing="0" style="border-collapse: collapse\; table-layout: fixed\; min-width: 100%\;" width="100%">\n				<tbody>\n					<tr>\n						<td align="left" class="m_438534915496248286editor-text m_438534915496248286editor-text" style="font-family: Arial\, Verdana\, Helvetica\, sans-serif\; margin: 0px\; font-size: 18px\; color: rgb(0\, 0\, 0)\; display: block\; overflow-wrap: break-word\; line-height: 1.2\; padding: 10px 40px\;" valign="top">\n						<div>&nbsp\;</div>\n\n						<div>\n						<div><span style="font-size: 16px\;">To join our virtual Town Hall tomorrow</span><span style="font-size: 16px\; font-weight: bold\;">&nbsp\;Friday\, September 18 at 10:30 am:</span></div>\n\n						<ul style="padding-right: 0px\; padding-left: 0px\; margin: 0px 0px 0px 40px\;">\n							<li style="margin: 0px\; padding: 0px\; line-height: 1.2\; font-size: 16px\;">join via computer:&nbsp\;<a data-saferedirecturl="https://www.google.com/url?q=http://r20.rs6.net/tn.jsp?f%3D001l47xMI08BoEw5f-4pQdywZxsmv8-NaoVSiqOAoWiLD5LZURg8nPW5gSUxcxyX1Cqw8z0I55Cl3EMs2Vfwm04tq9IxRaT2zl6Rw3vR5qNbLCEEoiV4wGhMH6bHs0ysK9iYo1LiYJgPgB1LugPjgJC9N2Xn7ZiqGNOalLph_sMb7lSkAcIhZaJqg%3D%3D%26c%3DPGHuJnwg_thxDBk_eA--wavteg_Vm5wQyTE0tgdunZKzredGcefV3Q%3D%3D%26ch%3D0uOPfyPcCGGn4iJrqNtbtruuMiBrT6IwgDs7VvFDCtL3703jAhLRXA%3D%3D&amp\;source=gmail&amp\;ust=1600454918755000&amp\;usg=AFQjCNHRhOzwHRnIsMsUodc8EgWMLg6dJw" href="http://r20.rs6.net/tn.jsp?f=001l47xMI08BoEw5f-4pQdywZxsmv8-NaoVSiqOAoWiLD5LZURg8nPW5gSUxcxyX1Cqw8z0I55Cl3EMs2Vfwm04tq9IxRaT2zl6Rw3vR5qNbLCEEoiV4wGhMH6bHs0ysK9iYo1LiYJgPgB1LugPjgJC9N2Xn7ZiqGNOalLph_sMb7lSkAcIhZaJqg==&amp\;c=PGHuJnwg_thxDBk_eA--wavteg_Vm5wQyTE0tgdunZKzredGcefV3Q==&amp\;ch=0uOPfyPcCGGn4iJrqNtbtruuMiBrT6IwgDs7VvFDCtL3703jAhLRXA==" rel="noopener noreferrer" style="color: rgb(0\, 0\, 255)\;" target="_blank">https://global.<wbr />gotomeeting.com/join/312302805</a></li>\n							<li style="margin: 0px\; padding: 0px\; line-height: 1.2\;"><span style="font-size: 16px\;">or</span><span style="font-size: 16px\; font-weight: bold\;">&nbsp\;dial in</span><span style="font-size: 16px\;">:&nbsp\;</span><a data-saferedirecturl="https://www.google.com/url?q=http://r20.rs6.net/tn.jsp?f%3D001l47xMI08BoEw5f-4pQdywZxsmv8-NaoVSiqOAoWiLD5LZURg8nPW5j_maEZZvSN4c5xR5cp07gPkOJOOEK3t13EIl3qWwdLPYPU7G3I59ynhC2DIPeeEviJH-DY6fp_vp3YXo2sJikPHQO7bg7pjBMtuZNjhpVdtqsHTA1JEY0iPlYis4nuoZf7kt_jGmTNMJVfi5AJtWpLEPBuSWBs2DzNsibhy6U3Cd5O-ixy01JiljuatkyOxsEPL8hGjOHHPijELdvmZWWrj8L4b94qZ_QaBVaWKQoJnNmDjUJtnivlrCNoS66DbtDMAiBzvy99Hkbc5qHdNmqGv_bAfW8SzBW9K0BagrGbL_bZykbhCrwE%3D%26c%3DPGHuJnwg_thxDBk_eA--wavteg_Vm5wQyTE0tgdunZKzredGcefV3Q%3D%3D%26ch%3D0uOPfyPcCGGn4iJrqNtbtruuMiBrT6IwgDs7VvFDCtL3703jAhLRXA%3D%3D&amp\;source=gmail&amp\;ust=1600454918755000&amp\;usg=AFQjCNHk8iSxO-RsAXjx5upPII6htRIrgg" href="http://r20.rs6.net/tn.jsp?f=001l47xMI08BoEw5f-4pQdywZxsmv8-NaoVSiqOAoWiLD5LZURg8nPW5j_maEZZvSN4c5xR5cp07gPkOJOOEK3t13EIl3qWwdLPYPU7G3I59ynhC2DIPeeEviJH-DY6fp_vp3YXo2sJikPHQO7bg7pjBMtuZNjhpVdtqsHTA1JEY0iPlYis4nuoZf7kt_jGmTNMJVfi5AJtWpLEPBuSWBs2DzNsibhy6U3Cd5O-ixy01JiljuatkyOxsEPL8hGjOHHPijELdvmZWWrj8L4b94qZ_QaBVaWKQoJnNmDjUJtnivlrCNoS66DbtDMAiBzvy99Hkbc5qHdNmqGv_bAfW8SzBW9K0BagrGbL_bZykbhCrwE=&amp\;c=PGHuJnwg_thxDBk_eA--wavteg_Vm5wQyTE0tgdunZKzredGcefV3Q==&amp\;ch=0uOPfyPcCGGn4iJrqNtbtruuMiBrT6IwgDs7VvFDCtL3703jAhLRXA==" rel="noopener noreferrer" style="color: rgb(0\, 0\, 0)\; text-decoration-line: none\; font-size: 16px\;" target="_blank">+1 (571) 317-3122</a></li>\n							<li style="margin: 0px\; padding: 0px\; line-height: 1.2\; font-size: 16px\;"><span style="font-weight: bold\;">access code</span>&nbsp\;is 312-302-805</li>\n						</ul>\n\n						<div>&nbsp\;</div>\n\n						<div><span style="font-size: 16px\;">If you dial in\,&nbsp\;</span><span style="font-size: 16px\; text-decoration-line: underline\; font-weight: bold\;">please mute your phone</span><span style="font-size: 16px\;">. If you wish to submit a question\, please email it to Tim Minton (</span><a href="mailto:tminton@nchba.org" rel="noopener noreferrer" style="color: rgb(0\, 0\, 255)\; font-size: 16px\;" target="_blank">tminton@nchba.org</a><span style="font-size: 16px\;">) before\, or during\, the call.</span></div>\n\n						<div>&nbsp\;</div>\n\n						<div align="center" style="text-align: center\;"><span style="font-size: 16px\; font-weight: bold\;">You do not want to miss this important update!</span></div>\n						</div>\n						</td>\n					</tr>\n				</tbody>\n			</table>\n			</td>\n		</tr>\n	</tbody>\n</table>\n
LOCATION:
UID:e.9512.3185
SEQUENCE:3
DTSTAMP:20260426T023804Z
URL:https://members.bablueridge.com/events/details/nahb-chief-lobbyist-jim-tobin-rob-dietz-economic-forecast-lumber-price-update-3185
END:VEVENT

END:VCALENDAR
