BEGIN:VCALENDAR
VERSION:2.0
PRODID:-//ChamberMaster//Event Calendar 2.0//EN
METHOD:PUBLISH
X-PUBLISHED-TTL:P3D
REFRESH-INTERVAL:P3D
CALSCALE:GREGORIAN
BEGIN:VEVENT
DTSTART:20200916T140000Z
DTEND:20200916T150000Z
X-MICROSOFT-CDO-ALLDAYEVENT:FALSE
SUMMARY:Membership Committee
DESCRIPTION:Zoom Meeting for learning about the Membership Drive
X-ALT-DESC;FMTTYPE=text/html:<p><font face="Helvetica Neue\, Helvetica\, Arial\, sans-serif"><span style="font-size: 14px\;">Zoom Meeting for learning about the Membership Drive</span></font>&nbsp\;&nbsp\;&nbsp\;&nbsp\;</p>\n
LOCATION:A place TBD
UID:e.9512.3173
SEQUENCE:3
DTSTAMP:20260426T023420Z
URL:https://members.bablueridge.com/events/details/membership-committee-3173
END:VEVENT

END:VCALENDAR
