BEGIN:VCALENDAR
VERSION:2.0
PRODID:-//ChamberMaster//Event Calendar 2.0//EN
METHOD:PUBLISH
X-PUBLISHED-TTL:P3D
REFRESH-INTERVAL:P3D
CALSCALE:GREGORIAN
BEGIN:VEVENT
DTSTART:20201208T203000Z
DTEND:20201208T213000Z
X-MICROSOFT-CDO-ALLDAYEVENT:FALSE
SUMMARY:Membership Committee
DESCRIPTION:Monthly meeting on the 2nd Tuesday from 3:30 to 4:30pm. Focusing on membership through recruiting efforts and retention\, this committee works with Staff to monitor membership statistics and establish goals and incentives for membership growth and development. Assists with membership outreach\, welcoming new members and exploring what members want and need.\n\n \n\nLearn more information here. \n\nIf you're interested in serving on this committee\, please email Megan at megan@ashevillehba.com.
X-ALT-DESC;FMTTYPE=text/html:<p><span style="color:#333333\;text-transform:none\;text-indent:0px\;letter-spacing:normal\;font-family:'Helvetica Neue'\, Helvetica\, Arial\, sans-serif\;font-size:14px\;font-style:normal\;font-weight:normal\;word-spacing:0px\;float:none\;display:inline !important\;white-space:normal\;orphans:2\;widows:2\;background-color:#ffffff\;font-variant-ligatures:normal\;font-variant-caps:normal\;-webkit-text-stroke-width:0px\;">Monthly meeting on the 2nd Tuesday from 3:30 to 4:30pm. Focusing on membership through recruiting efforts and retention\, this committee works with Staff to monitor membership statistics and establish goals and incentives for membership growth and development. Assists with membership outreach\, welcoming new members and exploring what members want and need.</span></p>\n\n<p>&nbsp\;</p>\n\n<p><span style="color:#333333\;text-transform:none\;text-indent:0px\;letter-spacing:normal\;font-family:'Helvetica Neue'\, Helvetica\, Arial\, sans-serif\;font-size:14px\;font-style:normal\;font-weight:normal\;word-spacing:0px\;float:none\;display:inline !important\;white-space:normal\;orphans:2\;widows:2\;background-color:#ffffff\;font-variant-ligatures:normal\;font-variant-caps:normal\;-webkit-text-stroke-width:0px\;">Learn more information <a href="https://ashevillehba.com/member-resources/get-involved/">here.</a>&nbsp\;<br />\nIf you&#39\;re interested in serving on this committee\, please email Megan at <a href="mailto:danielle@ashevillehba.com">megan@ashevillehba.com</a>.</span></p>\n
LOCATION:Asheville HBA 14 Mimidis Lane Swannanoa\, NC 28778
UID:e.9512.2803
SEQUENCE:3
DTSTAMP:20260425T232743Z
URL:https://members.bablueridge.com/events/details/membership-committee-12-08-2020-2803
END:VEVENT

END:VCALENDAR
