BEGIN:VCALENDAR
VERSION:2.0
PRODID:-//ChamberMaster//Event Calendar 2.0//EN
METHOD:PUBLISH
X-PUBLISHED-TTL:P3D
REFRESH-INTERVAL:P3D
CALSCALE:GREGORIAN
BEGIN:VEVENT
DTSTART:20230222T203000Z
DTEND:20230222T213000Z
X-MICROSOFT-CDO-ALLDAYEVENT:FALSE
SUMMARY:Membership Committee
DESCRIPTION:Monthly from 3:30 to 4:30 pm. Focusing on membership through recruiting efforts and retention\, this committee works with Staff to monitor membership statistics and establish goals and incentives for membership growth and development. Assists with membership outreach\, welcoming new members\, and exploring what members want and need.\n\n \n\nLearn more information here. \n\nIf you're interested in serving on this committee\, please email Jude at jude@ashevillehba.com
X-ALT-DESC;FMTTYPE=text/html:<p><span style="color:#333333\;text-transform:none\;text-indent:0px\;letter-spacing:normal\;font-family:'Helvetica Neue'\, Helvetica\, Arial\, sans-serif\;font-size:14px\;font-style:normal\;font-weight:normal\;word-spacing:0px\;float:none\;display:inline !important\;white-space:normal\;orphans:2\;widows:2\;background-color:#ffffff\;font-variant-ligatures:normal\;font-variant-caps:normal\;-webkit-text-stroke-width:0px\;">Monthly from 3:30 to 4:30 pm. Focusing on membership through recruiting efforts and retention\, this committee works with Staff to monitor membership statistics and establish goals and incentives for membership growth and development. Assists with membership outreach\, welcoming new members\, and exploring what members want and need.</span></p>\n\n<p>&nbsp\;</p>\n\n<p><span style="color:#333333\;text-transform:none\;text-indent:0px\;letter-spacing:normal\;font-family:'Helvetica Neue'\, Helvetica\, Arial\, sans-serif\;font-size:14px\;font-style:normal\;font-weight:normal\;word-spacing:0px\;float:none\;display:inline !important\;white-space:normal\;orphans:2\;widows:2\;background-color:#ffffff\;font-variant-ligatures:normal\;font-variant-caps:normal\;-webkit-text-stroke-width:0px\;">Learn more information <a href="https://ashevillehba.com/member-resources/get-involved/">here.</a>&nbsp\;<br />\nIf you&#39\;re interested in serving on this committee\, please email Jude at <a href="mailto:jude@ashevillehba.com">jude@ashevillehba.com</a></span></p>\n
LOCATION:Thirsty Monk South 2 Town Square Blvd #170\, Asheville\, NC 28803
UID:e.9512.3988
SEQUENCE:3
DTSTAMP:20260424T040551Z
URL:https://members.bablueridge.com/events/details/membership-committee-02-14-2023-3988
END:VEVENT

END:VCALENDAR
