BEGIN:VCALENDAR
VERSION:2.0
PRODID:-//ChamberMaster//Event Calendar 2.0//EN
METHOD:PUBLISH
X-PUBLISHED-TTL:P3D
REFRESH-INTERVAL:P3D
CALSCALE:GREGORIAN
BEGIN:VEVENT
DTSTART:20220510T203000Z
DTEND:20220510T213000Z
X-MICROSOFT-CDO-ALLDAYEVENT:FALSE
SUMMARY:Maximize Your Membership: The Tools You Need to Succeed
DESCRIPTION:Learn how to make the most of your membership investment - we'll highlight member perks and freebies that will benefit you and your business\, answer your questions and discuss ways to get involved! Pick up your Membership Benefits Packet\, introduce yourself\, tell us about your company\, and meet the Board of Directors. The New Member Welcome Reception is open to new members\, current members\, and industry professionals interested in membership.\n\n\n\nSponsored by Buchanan Construction
X-ALT-DESC;FMTTYPE=text/html:<p><span style="background-color:#ffffff\; color:#333333\; font-family:'Helvetica Neue'\,Helvetica\,Arial\,sans-serif\; font-size:14px">Learn how to make the most of your membership investment - we&#39\;ll highlight member perks and freebies that will benefit you and your business\, answer your questions and discuss ways to get involved! Pick up your Membership Benefits Packet\, introduce yourself\, tell&nbsp\;us about your company\, and meet the Board of Directors. The New Member Welcome Reception is open to new members\, current members\, and industry professionals interested in membership.<br />\n<br />\nSponsored by Buchanan Construction</span></p>\n
LOCATION:Catawba Brewing Company Asheville South Slope
UID:e.9512.3829
SEQUENCE:3
DTSTAMP:20260424T190302Z
URL:https://members.bablueridge.com/events/details/maximize-your-membership-the-tools-you-need-to-succeed-3829
END:VEVENT

END:VCALENDAR
