BEGIN:VCALENDAR
VERSION:2.0
PRODID:-//ChamberMaster//Event Calendar 2.0//EN
METHOD:PUBLISH
X-PUBLISHED-TTL:P3D
REFRESH-INTERVAL:P3D
CALSCALE:GREGORIAN
BEGIN:VEVENT
DTSTART:20210413T193000Z
DTEND:20210413T210000Z
X-MICROSOFT-CDO-ALLDAYEVENT:FALSE
SUMMARY:Maximize Your Membership: The Tools You Need to Succeed
DESCRIPTION:Learn how to make the most of your membership investment - we'll highlight member perks and freebies that will benefit you and your business\, answer your questions and discuss ways to get involved! Pick up your Membership Benefits Packet\, introduce yourself\, tell us about your company\, and meet the Board of Directors. The New Member Welcome Reception is open to new members\, current members\, and industry professionals interested in membership.
X-ALT-DESC;FMTTYPE=text/html:<p><span style="background-color:#ffffff\; color:#333333\; font-family:'Helvetica Neue'\,Helvetica\,Arial\,sans-serif\; font-size:14px">Learn how to make the most of your membership investment - we&#39\;ll highlight member perks and freebies that will benefit you and your business\, answer your questions and discuss ways to get involved! Pick up your Membership Benefits Packet\, introduce yourself\, tell&nbsp\;us about your company\, and meet the Board of Directors. The New Member Welcome Reception is open to new members\, current members\, and industry professionals interested in membership.</span></p>\n
LOCATION:Catawba Brewing Company Asheville South Slope
UID:e.9512.3349
SEQUENCE:3
DTSTAMP:20260425T154919Z
URL:https://members.bablueridge.com/events/details/maximize-your-membership-the-tools-you-need-to-succeed-3349
END:VEVENT

END:VCALENDAR
