BEGIN:VCALENDAR
VERSION:2.0
PRODID:-//ChamberMaster//Event Calendar 2.0//EN
METHOD:PUBLISH
X-PUBLISHED-TTL:P3D
REFRESH-INTERVAL:P3D
CALSCALE:GREGORIAN
BEGIN:VEVENT
DTSTART:20211201T133000Z
DTEND:20211201T220000Z
X-MICROSOFT-CDO-ALLDAYEVENT:FALSE
SUMMARY:Marketing & Communicating with the Aging In Place Client (CAPS I)
DESCRIPTION:Instructor: Steve Monroe CAPS\n\n\n\nMillions of Americans are living longer and more active lives. Because they are embracing newly found and changing lifestyles\, they need to revitalize their home environment. Identifying this burgeoning opportunity and then developing the skills to interact with this market can help you grow your business dramatically. The goal of the course is to equip course participants with the knowledge and tools to effectively market and sell services to the aging in place (AIP) market.
X-ALT-DESC;FMTTYPE=text/html:<strong>Instructor</strong>: Steve Monroe CAPS<br />\n<br />\nMillions of Americans are living longer and more active lives. Because they are embracing newly found and changing lifestyles\, they need to revitalize their home environment. Identifying this burgeoning opportunity and then developing the skills to interact with this market can help you grow your business dramatically. The goal of the course is to equip course participants with the knowledge and tools to effectively market and sell services to the aging in place (AIP) market.
LOCATION:AHBA Office 14 Mimidis Lane\, Route 70 Swannanoa\, NC 28778
UID:e.9512.3648
SEQUENCE:3
DTSTAMP:20260425T031135Z
URL:https://members.bablueridge.com/events/details/marketing-communicating-with-the-aging-in-place-client-caps-i-3648
END:VEVENT

END:VCALENDAR
