BEGIN:VCALENDAR
VERSION:2.0
PRODID:-//ChamberMaster//Event Calendar 2.0//EN
METHOD:PUBLISH
X-PUBLISHED-TTL:P3D
REFRESH-INTERVAL:P3D
CALSCALE:GREGORIAN
BEGIN:VEVENT
DTSTART:20221229T203000Z
DTEND:20221229T213000Z
X-MICROSOFT-CDO-ALLDAYEVENT:FALSE
SUMMARY:Marketing Committee
DESCRIPTION:This Committee works closely with Staff to coordinate marketing planning for the association. They help decide on the best marketing avenues\, strategies\, and tools to see the association and its members thrive. \n\n\n\nEmail Marketing@ashevillehba.com if you'd like to join!
X-ALT-DESC;FMTTYPE=text/html:This Committee works closely with Staff to coordinate marketing planning for the association. They help decide on the best marketing avenues\, strategies\, and tools to see the association and its members thrive.&nbsp\;<br>\n<br>\nEmail Marketing@ashevillehba.com if you'd like to join!&nbsp\;
LOCATION:
UID:e.9512.4765
SEQUENCE:3
DTSTAMP:20260424T071706Z
URL:https://members.bablueridge.com/events/details/marketing-committee-12-29-2022-4765
END:VEVENT

END:VCALENDAR
