BEGIN:VCALENDAR
VERSION:2.0
PRODID:-//ChamberMaster//Event Calendar 2.0//EN
METHOD:PUBLISH
X-PUBLISHED-TTL:P3D
REFRESH-INTERVAL:P3D
CALSCALE:GREGORIAN
BEGIN:VEVENT
DTSTART;VALUE=DATE:20210628
DTEND;VALUE=DATE:20210629
TRANSP:TRANSPARENT
X-MICROSOFT-CDO-ALLDAYEVENT:TRUE
SUMMARY:Main Deadline for Parade of Homes Entry
DESCRIPTION:Today is the deadline for our Main Deadline for a Parade of Homes Entry. \n \n\n\n	Main Entry Deadline (June 28th) $2775\n	Last Minute Deadline (July 26th) $3375\n\n\n\n\nEntering a Home or Project in the Parade of Homes is a great way to showcase your style and craftsmanship to a variety of home buyers both in our area and abroad.  Home entries include new construction and complete remodels\, and can be either occupied or unoccupied.  All Parade entries are featured in a full-color glossy publication distributed throughout the Parade\, online at our parade website in the online magazine\, and at AHBA Consumer Events throughout the year. Homes on tour are open for a free self-guided tour during the weekends of October 9th-10th\, 16th-17th. \n\n\n\n                           www.ParadeofHomesAsheville.com
X-ALT-DESC;FMTTYPE=text/html:Today is the deadline for our Main Deadline for a Parade of Homes Entry.&nbsp\;\n<div style="box-sizing: border-box\;">&nbsp\;</div>\n\n<ul style="box-sizing: border-box\; margin-top: 0px\; margin-bottom: 16px\; color: rgb(97\, 97\, 97)\; font-family: &quot\;Open Sans&quot\;\, Helvetica\, Arial\, sans-serif\; font-size: 14px\;">\n	<li style="box-sizing: border-box\;">Main Entry Deadline (June 28th) $2775</li>\n	<li style="box-sizing: border-box\;">Last Minute Deadline (July 26th) $3375</li>\n</ul>\n\n<div style="box-sizing: border-box\;"><br />\n<span style="color: rgb(97\, 97\, 97)\; font-family: &quot\;Open Sans&quot\;\, Helvetica\, Arial\, sans-serif\; font-size: 14px\;">Entering a Home or Project in the Parade of Homes is a great way to showcase your style and craftsmanship to a variety of home buyers both in our area and abroad. &nbsp\;Home entries include new construction and complete remodels\, and can be either occupied or unoccupied. &nbsp\;All Parade entries are featured in a full-color glossy publication distributed throughout the Parade\, online at our parade website in the online magazine\,&nbsp\;and at&nbsp\;AHBA&nbsp\;Consumer Events throughout the year. Homes on tour are open for a free self-guided tour during the weekends of October 9th-10th\, 16th-17th.&nbsp\;<br />\n<br />\n&nbsp\; &nbsp\; &nbsp\; &nbsp\; &nbsp\; &nbsp\; &nbsp\; &nbsp\; &nbsp\; &nbsp\; &nbsp\; &nbsp\; &nbsp\; &nbsp\;<a href="https://paradeofhomesasheville.com/participate/homeentries/">www.ParadeofHomesAsheville.com</a></span></div>\n\n<div style="box-sizing: border-box\;">&nbsp\;</div>\n
LOCATION:
UID:e.9512.3377
SEQUENCE:3
DTSTAMP:20260425T123245Z
URL:https://members.bablueridge.com/events/details/main-deadline-for-parade-of-homes-entry-3377
END:VEVENT

END:VCALENDAR
