BEGIN:VCALENDAR
VERSION:2.0
PRODID:-//ChamberMaster//Event Calendar 2.0//EN
METHOD:PUBLISH
X-PUBLISHED-TTL:P3D
REFRESH-INTERVAL:P3D
CALSCALE:GREGORIAN
BEGIN:VEVENT
DTSTART:20201101T160000Z
DTEND:20201101T210000Z
X-MICROSOFT-CDO-ALLDAYEVENT:FALSE
SUMMARY:Log & Timber Home Show
DESCRIPTION:Produced by the Asheville Home Builders Association and sponsored by Log Home Living\, we are proud to present the annual Log & Timber Home show coming back to Western North Carolina this Fall! This unique event will feature everything you need - conveniently located under one roof - to build\, plan\, design and decorate your Mountain Home. Visit one-on-one with industry professionals\, see the latest products and services to incorporate into your Mountain Home and enjoy free workshops and live demonstrations.\n\n \n\n \n\n\n\nVisit www.LogandTimberAsheville.com for more info.
X-ALT-DESC;FMTTYPE=text/html:<p>Produced by the Asheville Home Builders Association and sponsored by Log Home Living\, we are proud to present the annual Log &amp\; Timber Home show coming back to Western North Carolina this Fall! This unique event will feature everything you need - conveniently located under one roof - to build\, plan\, design and decorate your Mountain Home. Visit one-on-one with industry professionals\, see the latest products and services to incorporate into your Mountain Home and enjoy free workshops and live demonstrations.<br />\n&nbsp\;</p>\n\n<p style="text-align: center\;">&nbsp\;</p>\n\n<p><br />\nVisit <a href="http://www.LogandTimberAsheville.com">www.LogandTimberAsheville.com</a> for more info.</p>\n
LOCATION:Online Virtual Platform!!!
UID:e.9512.3135
SEQUENCE:3
DTSTAMP:20260425T203059Z
URL:https://members.bablueridge.com/events/details/log-timber-home-show-3135
END:VEVENT

END:VCALENDAR
