BEGIN:VCALENDAR
VERSION:2.0
PRODID:-//ChamberMaster//Event Calendar 2.0//EN
METHOD:PUBLISH
X-PUBLISHED-TTL:P3D
REFRESH-INTERVAL:P3D
CALSCALE:GREGORIAN
BEGIN:VEVENT
DTSTART:20230223T223000Z
DTEND:20230224T003000Z
X-MICROSOFT-CDO-ALLDAYEVENT:FALSE
SUMMARY:Local Industry Night
DESCRIPTION:The Builders Association of the Blue Ridge Mtns is proud to host this Annual collaborative networking event for members of our area associations and organizations to mix and mingle with one another. We are fortunate to live in a dynamic area that offers individuals and businesses several avenues to be involved in professional groups that benefit both themselves and their businesses all while thriving in our community. \n\n\n\nWe have opened this special invitation to members of the following groups:\n\n\n	BA of the Blue Ridge Mountains    \n	Green Built Alliance \n	Land of the Sky Board of Realtors \n	Mortgage Bankers Association of WNC \n	American Society of Interior Designers - Carolinas\n	American Institute of Architects Asheville\n\n\nEnjoy hors d'oeuvres and beverages while touring an amazing showroom and building relationships with industry pros. \n\nRegistration is Required - Use Register Now button above.\n\nRegistration is now closed. Please contact the office to register.
X-ALT-DESC;FMTTYPE=text/html:<p style="box-sizing: border-box\; margin: 0px 0px 10px\; color: rgb(68\, 68\, 68)\; font-family: Verdana\, Geneva\, sans-serif\; font-size: 14px\;"><span style="color: rgb(68\, 68\, 68)\; font-family: Verdana\, Geneva\, sans-serif\; font-size: 14px\;">The Builders Association of the Blue Ridge Mtns&nbsp\;is proud to host this</span><span style="color: rgb(68\, 68\, 68)\; font-family: Verdana\, Geneva\, sans-serif\; font-size: 14px\;">&nbsp\;Annual collaborative networking event for members of our area associations and organizations&nbsp\;to mix and mingle with one another.&nbsp\;</span>We are fortunate to live in a dynamic area that offers individuals and businesses several avenues to be involved in professional groups that benefit both themselves and their businesses all while thriving in our community.&nbsp\;<br />\n<br />\nWe have opened this special invitation to&nbsp\;members of the following groups:</p>\n\n<ul>\n	<li style="box-sizing: border-box\; margin: 0px 0px 10px\; color: rgb(68\, 68\, 68)\; font-family: Verdana\, Geneva\, sans-serif\; font-size: 14px\;">BA of the Blue Ridge Mountains&nbsp\;&nbsp\;<span style="color: rgb(68\, 68\, 68)\; font-family: Verdana\, Geneva\, sans-serif\; font-size: 14px\;">&nbsp\;&nbsp\;</span></li>\n	<li style="box-sizing: border-box\; margin: 0px 0px 10px\; color: rgb(68\, 68\, 68)\; font-family: Verdana\, Geneva\, sans-serif\; font-size: 14px\;">Green Built Alliance&nbsp\;</li>\n	<li style="box-sizing: border-box\; margin: 0px 0px 10px\; color: rgb(68\, 68\, 68)\; font-family: Verdana\, Geneva\, sans-serif\; font-size: 14px\;">Land of the Sky Board of Realtors&nbsp\;</li>\n	<li style="box-sizing: border-box\; margin: 0px 0px 10px\; color: rgb(68\, 68\, 68)\; font-family: Verdana\, Geneva\, sans-serif\; font-size: 14px\;">Mortgage Bankers Association of WNC&nbsp\;</li>\n	<li style="box-sizing: border-box\; margin: 0px 0px 10px\; color: rgb(68\, 68\, 68)\; font-family: Verdana\, Geneva\, sans-serif\; font-size: 14px\;">American Society of Interior Designers - Carolinas</li>\n	<li style="box-sizing: border-box\; margin: 0px 0px 10px\; color: rgb(68\, 68\, 68)\; font-family: Verdana\, Geneva\, sans-serif\; font-size: 14px\;">American Institute of Architects Asheville</li>\n</ul>\n\n<p style="box-sizing: border-box\; margin: 0px 0px 10px\; color: rgb(68\, 68\, 68)\; font-family: Verdana\, Geneva\, sans-serif\; font-size: 14px\;">Enjoy&nbsp\;hors d&#39\;oeuvres&nbsp\;and beverages while touring an amazing showroom&nbsp\;and building relationships with industry pros.&nbsp\;</p>\n\n<p style="box-sizing: border-box\; margin: 0px 0px 10px\; color: rgb(68\, 68\, 68)\; font-family: Verdana\, Geneva\, sans-serif\; font-size: 14px\;"><span style="box-sizing: border-box\; font-weight: 700\;">Registration is Required - Use Register Now button above.<br />\nRegistration is now closed. Please contact the office to register.</span></p>\n
LOCATION:Atelier Maison & Co. 121 Sweeten Creek Rd Suite 50\, Asheville\, NC 28803
UID:e.9512.4608
SEQUENCE:3
DTSTAMP:20260424T040335Z
URL:https://members.bablueridge.com/events/details/local-industry-night-4608
END:VEVENT

END:VCALENDAR
