BEGIN:VCALENDAR
VERSION:2.0
PRODID:-//ChamberMaster//Event Calendar 2.0//EN
METHOD:PUBLISH
X-PUBLISHED-TTL:P3D
REFRESH-INTERVAL:P3D
CALSCALE:GREGORIAN
BEGIN:VEVENT
DTSTART:20220922T213000Z
DTEND:20220922T233000Z
X-MICROSOFT-CDO-ALLDAYEVENT:FALSE
SUMMARY:Local Industry Night
DESCRIPTION:The Asheville Home Builders is proud to host this 9th Annual collaborative networking event for members of our area associations and organizations to mix and mingle with one another. Food will be provided by Papa's Express Food Truck\, courtesy of HomeSource.\n\nWe are fortunate to live in a dynamic area that offers individuals and businesses several avenues to be involved in professional groups that benefit both themselves and their businesses all while thriving in our community. \n\n\n\nWe are excited to mingle with elected officals too! Be sure to bring your business cards. \n\n\n\nWe have opened this special invitation to members of the following groups:\n\n\n	Asheville Home Builders Association    \n	Green Built Alliance \n	Land of the Sky Board of Realtors \n	Mortgage Bankers Association of WNC \n	American Society of Interior Designers - Carolinas\n	American Institute of Architects Asheville. \n\n\nRegistration is Required\n\nParking available behind the UBS Financial Services building at 138 Charlotte Street after 5:30
X-ALT-DESC;FMTTYPE=text/html:<p style="box-sizing: border-box\; margin: 0px 0px 10px\; color: rgb(68\, 68\, 68)\; font-family: Verdana\, Geneva\, sans-serif\; font-size: 14px\;"><span style="color: rgb(68\, 68\, 68)\; font-family: Verdana\, Geneva\, sans-serif\; font-size: 14px\;">The Asheville Home Builders is proud to host this 9</span>th<span style="color: rgb(68\, 68\, 68)\; font-family: Verdana\, Geneva\, sans-serif\; font-size: 14px\;">&nbsp\;Annual collaborative networking event for members of our area associations and organizations&nbsp\;to mix and mingle with one another. Food will be provided by&nbsp\;</span>Papa&rsquo\;s Express Food Truck\, courtesy of HomeSource.<br />\nWe are fortunate to live in a dynamic area that offers individuals and businesses several avenues to be involved in professional groups that benefit both themselves and their businesses all while thriving in our community.&nbsp\;<br />\n<br />\nWe are excited to mingle with elected officals too! Be sure to bring your business cards.&nbsp\;<br />\n<br />\nWe have opened this special invitation to&nbsp\;members of the following groups:</p>\n\n<ul>\n	<li style="box-sizing: border-box\; margin: 0px 0px 10px\; color: rgb(68\, 68\, 68)\; font-family: Verdana\, Geneva\, sans-serif\; font-size: 14px\;">Asheville Home Builders Association&nbsp\; <span style="color: rgb(68\, 68\, 68)\; font-family: Verdana\, Geneva\, sans-serif\; font-size: 14px\;">&nbsp\;&nbsp\;</span></li>\n	<li style="box-sizing: border-box\; margin: 0px 0px 10px\; color: rgb(68\, 68\, 68)\; font-family: Verdana\, Geneva\, sans-serif\; font-size: 14px\;">Green Built Alliance&nbsp\;</li>\n	<li style="box-sizing: border-box\; margin: 0px 0px 10px\; color: rgb(68\, 68\, 68)\; font-family: Verdana\, Geneva\, sans-serif\; font-size: 14px\;">Land of the Sky Board of Realtors&nbsp\;</li>\n	<li style="box-sizing: border-box\; margin: 0px 0px 10px\; color: rgb(68\, 68\, 68)\; font-family: Verdana\, Geneva\, sans-serif\; font-size: 14px\;">Mortgage Bankers Association of WNC&nbsp\;</li>\n	<li style="box-sizing: border-box\; margin: 0px 0px 10px\; color: rgb(68\, 68\, 68)\; font-family: Verdana\, Geneva\, sans-serif\; font-size: 14px\;">American Society of Interior Designers - Carolinas</li>\n	<li style="box-sizing: border-box\; margin: 0px 0px 10px\; color: rgb(68\, 68\, 68)\; font-family: Verdana\, Geneva\, sans-serif\; font-size: 14px\;">American Institute of Architects Asheville.&nbsp\;</li>\n</ul>\n\n<p style="box-sizing: border-box\; margin: 0px 0px 10px\; color: rgb(68\, 68\, 68)\; font-family: Verdana\, Geneva\, sans-serif\; font-size: 14px\;"><span style="box-sizing: border-box\; font-weight: 700\;">Registration is Required</span><br />\n<em><strong>Parking available behind the UBS Financial Services building at 138 Charlotte Street after 5:30</strong></em></p>\n
LOCATION:HomeSource Design Center 172 Charlotte Street Asheville\, NC 28801
UID:e.9512.3851
SEQUENCE:3
DTSTAMP:20260424T133428Z
URL:https://members.bablueridge.com/events/details/local-industry-night-3851
END:VEVENT

END:VCALENDAR
