BEGIN:VCALENDAR
VERSION:2.0
PRODID:-//ChamberMaster//Event Calendar 2.0//EN
METHOD:PUBLISH
X-PUBLISHED-TTL:P3D
REFRESH-INTERVAL:P3D
CALSCALE:GREGORIAN
BEGIN:VEVENT
DTSTART:20221110T163000Z
DTEND:20221110T183000Z
X-MICROSOFT-CDO-ALLDAYEVENT:FALSE
SUMMARY:Learn Over Lunch: Home Building with Huber Engineered Woods
DESCRIPTION:Presented by Huber Engineered Woods\n\nThis free two-hour course including lunch will provide educational background on Huber Products. Learn all about their new product\, Advantech X-Factor and Zip System Peel and Stick Underlayment\n\n\n\nYou must register to attend this class.
X-ALT-DESC;FMTTYPE=text/html:<p dir="ltr"><br />\n<span style="background-color:transparent\; color:#333399\; font-family:Arial\; font-size:11pt"><strong>Presented by Huber Engineered Woods</strong></span><br />\nThis free two-hour course <em>including lunch</em> will provide educational background on Huber Products. Learn all about their new product\, Advantech X-Factor&nbsp\;and Zip System Peel and Stick Underlayment<br />\n<br />\n<strong>You must register to attend this class.&nbsp\;</strong></p>\n
LOCATION:Asheville Home Builders Association office 14 Mimidis Lane\, Swannanoa NC
UID:e.9512.4099
SEQUENCE:3
DTSTAMP:20260424T102810Z
URL:https://members.bablueridge.com/events/details/learn-over-lunch-home-building-with-huber-engineered-woods-4099
END:VEVENT

END:VCALENDAR
