BEGIN:VCALENDAR
VERSION:2.0
PRODID:-//ChamberMaster//Event Calendar 2.0//EN
METHOD:PUBLISH
X-PUBLISHED-TTL:P3D
REFRESH-INTERVAL:P3D
CALSCALE:GREGORIAN
BEGIN:VEVENT
DTSTART:20210727T153000Z
DTEND:20210727T173000Z
X-MICROSOFT-CDO-ALLDAYEVENT:FALSE
SUMMARY:Learn Over Lunch: Home Builders Do It Better with Schluter Systems
DESCRIPTION:Presented by Schluter Systems\n\nThis free two-hour course including lunch will provide educational background on Schluter Systems including a 40-minute presentation on the Challenges & Solutions of shower installation and underlayment installation. Followed by one hour of a physical installation of a mock shower.\n\n\n\nContrary to popular belief\, tiles and grout joints are not inherently waterproof and must be installed in conjunction with a waterproofing system that effectively manages moisture and prevents mold growth.\n\nThe Schluter-Shower System is an integrated family of products that together form a fully bonded\, watertight assembly for tiled showers. The Schluter-Shower System eliminates the risk of failures due to water and vapor penetration and dramatically reduces total installation time. From drains to shower benches to waterproofing pipe seals\, Schluter-Systems offers everything you need to ensure a dependable and watertight installation.
X-ALT-DESC;FMTTYPE=text/html:<p dir="ltr"><br />\n<span style="background-color:transparent\; color:#333399\; font-family:Arial\; font-size:11pt"><strong>Presented by Schluter Systems</strong></span><br />\nThis free two-hour course including lunch will provide educational background on Schluter Systems including a 40-minute&nbsp\;presentation on the Challenges &amp\; Solutions of shower installation and underlayment&nbsp\;installation. Followed by one&nbsp\;hour of a physical installation of a mock shower.<br />\n<br />\nContrary to popular belief\, tiles and grout joints are not inherently waterproof and must be installed in conjunction with a waterproofing system that effectively manages moisture and prevents mold growth.<br />\nThe Schluter-Shower System is an integrated family of products that together form a fully bonded\, watertight assembly for tiled showers. The Schluter-Shower System eliminates the risk of failures due to water and vapor penetration and dramatically reduces total installation time. From drains to shower benches to waterproofing pipe seals\, Schluter-Systems offers everything you need to ensure a dependable and watertight installation.</p>\n
LOCATION:Asheville Home Builders Association
UID:e.9512.3428
SEQUENCE:3
DTSTAMP:20260425T111631Z
URL:https://members.bablueridge.com/events/details/learn-over-lunch-home-builders-do-it-better-with-schluter-systems-3428
END:VEVENT

END:VCALENDAR
