BEGIN:VCALENDAR
VERSION:2.0
PRODID:-//ChamberMaster//Event Calendar 2.0//EN
METHOD:PUBLISH
X-PUBLISHED-TTL:P3D
REFRESH-INTERVAL:P3D
CALSCALE:GREGORIAN
BEGIN:VEVENT
DTSTART:20210422T190000Z
DTEND:20210422T200000Z
X-MICROSOFT-CDO-ALLDAYEVENT:FALSE
SUMMARY:Home Performance Counts: Virtual Green Home Tour series - Earth Day Special
DESCRIPTION:Interested in green building and high-performance homes? Then make plans to join us for the Home Performance Counts: Virtual Green Home Tour Series. The first edition will be on Thursday at 3 p.m. ET April 22. If you can't make the live tour\, register and you will get access to the replay.\n\n \n\nThe Earth Day kickoff of the series features Robinhood by Red Tree Builders. Brandon Bryant\, Red Tree's Owner\, and President and current Chairman of the NAHB Sustainability & Green Building Subcommittee takes viewers through Robinhood\, one of his artfully crafted\, mindfully built high-performance homes in the mountains near Asheville\, NC. Brandon is joined by Kelly Erin-Spinney of Modern Asheville Real Estate to discuss tips on how to talk to customers about high-performance and how to realize the high-performance value of a build in the sale.  \n\n \n\nA live Q&A with Brandon and Kelly will take place immediately after the tour.  \n\n \n\nRegistration is free to all for this monthly series showcasing high-performance homes across the country. In addition to the showcase of homes\, builders\, real estate agents\, and others will discuss how housing industry professionals can work together to increase sales and provide added value to consumers.   \n\n\n\nBrought to you by:\n\n \n\nThe series is a product of Home Performance Counts\, a joint educational initiative between NAHB and the National Association of Realtors (NAR). Home Performance counts is designed to help members of both associations work together and succeed in the rapidly growing marketplace for high-performance homes.
X-ALT-DESC;FMTTYPE=text/html:<p class="m_1332074281521688734xmsonormal" style="margin: 0in 0in 0.0001pt\; font-size: 11pt\; font-family: Calibri\, sans-serif\; color: rgb(34\, 34\, 34)\; background-color: rgb(255\, 255\, 255)\;"><span style="font-size: 12pt\; color: black\;">Interested in green building and high-performance homes? Then make plans to join us for the Home Performance Counts: Virtual Green Home Tour Series. The first edition will be on Thursday at 3 p.m. ET April 22. If you <u>can&rsquo\;t make the live tour\, register </u>and you will get access to the replay.</span></p>\n\n<p class="m_1332074281521688734xmsonormal" style="margin: 0in 0in 0.0001pt\; font-size: 11pt\; font-family: Calibri\, sans-serif\; color: rgb(34\, 34\, 34)\; background-color: rgb(255\, 255\, 255)\;"><b><span style="font-size: 12pt\; color: black\;">&nbsp\;</span></b></p>\n\n<p class="m_1332074281521688734xmsonormal" style="margin: 0in 0in 0.0001pt\; font-size: 11pt\; font-family: Calibri\, sans-serif\; color: rgb(34\, 34\, 34)\; background-color: rgb(255\, 255\, 255)\;"><span style="font-size: 12pt\; color: black\;">The Earth Day kickoff of the series features Robinhood by&nbsp\;<a data-saferedirecturl="https://www.google.com/url?q=https://www.redtreebuilders.com/&amp\;source=gmail&amp\;ust=1617817926399000&amp\;usg=AFQjCNGRomZhg8X1vDgmFMhM0GShckw8ag" href="https://www.redtreebuilders.com/" style="color: rgb(17\, 85\, 204)\;" target="_blank">Red Tree Builders</a>. Brandon Bryant\, Red Tree&rsquo\;s Owner\, and President and current Chairman of the NAHB Sustainability &amp\; Green Building Subcommittee t<span class="m_1332074281521688734xnormaltextrun"><span style="background-image: initial\; background-position: initial\; background-size: initial\; background-repeat: initial\; background-attachment: initial\; background-origin: initial\; background-clip: initial\;">akes viewers through&nbsp\;Robinhood\, one of his artfully crafted\, mindfully built high-performance homes in the mountains near Asheville\, NC. Brandon&nbsp\;</span></span>is joined by Kelly Erin-Spinney of&nbsp\;<a data-saferedirecturl="https://www.google.com/url?q=https://modernasheville.com/&amp\;source=gmail&amp\;ust=1617817926399000&amp\;usg=AFQjCNGS9T7IWj7cvobfSfUaqq7nKTyLhw" href="https://modernasheville.com/" style="color: rgb(17\, 85\, 204)\;" target="_blank">Modern Asheville Real Estate</a>&nbsp\;<span class="m_1332074281521688734xnormaltextrun"><span style="background-image: initial\; background-position: initial\; background-size: initial\; background-repeat: initial\; background-attachment: initial\; background-origin: initial\; background-clip: initial\;">to discuss tips on how to talk to customers about high-performance and how to realize the high-performance value of a build in the sale. &nbsp\;</span></span></span></p>\n\n<p class="m_1332074281521688734xmsonormal" style="margin: 0in 0in 0.0001pt\; font-size: 11pt\; font-family: Calibri\, sans-serif\; color: rgb(34\, 34\, 34)\; background-color: rgb(255\, 255\, 255)\;"><span class="m_1332074281521688734xnormaltextrun"><span style="font-size: 12pt\; color: black\; background-image: initial\; background-position: initial\; background-size: initial\; background-repeat: initial\; background-attachment: initial\; background-origin: initial\; background-clip: initial\;">&nbsp\;</span></span></p>\n\n<p class="m_1332074281521688734xmsonormal" style="margin: 0in 0in 0.0001pt\; font-size: 11pt\; font-family: Calibri\, sans-serif\; color: rgb(34\, 34\, 34)\; background-color: rgb(255\, 255\, 255)\;"><span class="m_1332074281521688734xnormaltextrun"><span style="font-size: 12pt\; color: black\; background-image: initial\; background-position: initial\; background-size: initial\; background-repeat: initial\; background-attachment: initial\; background-origin: initial\; background-clip: initial\;">A live Q&amp\;A with Brandon and Kelly will take place immediately after the tour. &nbsp\;</span></span></p>\n\n<p class="m_1332074281521688734xmsonormal" style="margin: 0in 0in 0.0001pt\; font-size: 11pt\; font-family: Calibri\, sans-serif\; color: rgb(34\, 34\, 34)\; background-color: rgb(255\, 255\, 255)\;">&nbsp\;</p>\n\n<p class="m_1332074281521688734xmsonormal" style="margin: 0in 0in 0.0001pt\; font-size: 11pt\; font-family: Calibri\, sans-serif\; color: rgb(34\, 34\, 34)\; background-color: rgb(255\, 255\, 255)\;"><span style="font-size: 12pt\; color: black\;">Registration is free to all for this monthly series showcasing high-performance homes across the country. In addition to the showcase of homes\, builders\, real estate agents\, and others will discuss how housing industry professionals can work together to increase sales and provide added value to consumers.&nbsp\; &nbsp\;</span><br />\n<br />\nBrought to you by:</p>\n\n<p class="m_1332074281521688734xmsonormal" style="margin: 0in 0in 0.0001pt\; font-size: 11pt\; font-family: Calibri\, sans-serif\; color: rgb(34\, 34\, 34)\; background-color: rgb(255\, 255\, 255)\;"><span style="font-size: 12pt\; color: black\;">&nbsp\;</span></p>\n\n<p class="m_1332074281521688734xmsonormal" style="margin: 0in 0in 0.0001pt\; font-size: 11pt\; font-family: Calibri\, sans-serif\; color: rgb(34\, 34\, 34)\; background-color: rgb(255\, 255\, 255)\;"><span style="font-size: 12pt\; color: black\;">The series is a product of&nbsp\;<a data-saferedirecturl="https://www.google.com/url?q=https://www.homeperformancecounts.info/&amp\;source=gmail&amp\;ust=1617817926399000&amp\;usg=AFQjCNGrde2FqzqgI3ofva41l2Tc6fDcrg" href="https://www.homeperformancecounts.info/" style="color: rgb(17\, 85\, 204)\;" target="_blank">Home Performance Counts</a>\, a joint educational initiative between NAHB and the National Association of Realtors (NAR). Home Performance counts is designed to help members of both associations work together and succeed in the rapidly growing marketplace for high-performance homes.&nbsp\;</span><br />\n<br />\n&nbsp\;</p>\n
LOCATION:Link to register for the Home Performance Counts: Virtual Green Home Tour series: https://www.nahb.org/forms/webinars/home-performance-counts-virtual-green-home-tour-series
UID:e.9512.3373
SEQUENCE:3
DTSTAMP:20260425T123506Z
URL:https://members.bablueridge.com/events/details/home-performance-counts-virtual-green-home-tour-series-earth-day-special-3373
END:VEVENT

END:VCALENDAR
