BEGIN:VCALENDAR
VERSION:2.0
PRODID:-//ChamberMaster//Event Calendar 2.0//EN
METHOD:PUBLISH
X-PUBLISHED-TTL:P3D
REFRESH-INTERVAL:P3D
CALSCALE:GREGORIAN
BEGIN:VEVENT
DTSTART:20220921T193000Z
DTEND:20220921T203000Z
X-MICROSOFT-CDO-ALLDAYEVENT:FALSE
SUMMARY:Government Affairs Committee
DESCRIPTION:Acts as a liaison with our local\, state and nationally elected government officials. Focuses on items pertinent to housing and the livelihood of our membership. Meets with local elected officials\, discusses ordinances and promotes BUILD-PAC contributions. Meets on the 3rd Wednesday every other month from 3:30 to 4:30pm.
X-ALT-DESC;FMTTYPE=text/html:<p><span style="color: rgb(68\, 68\, 68)\; font-family: Verdana\, Geneva\, sans-serif\; font-size: 14px\;">Acts as a liaison with our local\, state and nationally&nbsp\;elected government officials. Focuses on items pertinent to housing and the livelihood of our membership. Meets with local elected officials\, discusses ordinances and promotes BUILD-PAC contributions.&nbsp\;</span><em style="box-sizing: border-box\; color: rgb(68\, 68\, 68)\; font-family: Verdana\, Geneva\, sans-serif\; font-size: 14px\;">Meets on the 3rd Wednesday every other month from 3:30 to 4:30pm.</em></p>\n
LOCATION:Zillicoah Beer 870 Riverside Dr\, Woodfin\, NC 28804
UID:e.9512.3769
SEQUENCE:3
DTSTAMP:20260424T121953Z
URL:https://members.bablueridge.com/events/details/government-affairs-committee-09-21-2022-3769
END:VEVENT

END:VCALENDAR
