BEGIN:VCALENDAR
VERSION:2.0
PRODID:-//ChamberMaster//Event Calendar 2.0//EN
METHOD:PUBLISH
X-PUBLISHED-TTL:P3D
REFRESH-INTERVAL:P3D
CALSCALE:GREGORIAN
BEGIN:VEVENT
DTSTART:20230215T203000Z
DTEND:20230215T213000Z
X-MICROSOFT-CDO-ALLDAYEVENT:FALSE
SUMMARY:Government Affairs Committee
DESCRIPTION:Acts as a liaison with our local\, state and nationally elected government officials. Focuses on items pertinent to housing and the livelihood of our membership. Meets with local elected officials\, discusses ordinances and promotes BUILD-PAC contributions. \n\nMeets on the 3rd Wednesday every other month from 3:30 to 4:30pm.
X-ALT-DESC;FMTTYPE=text/html:<p><span style="color: rgb(68\, 68\, 68)\; font-family: Verdana\, Geneva\, sans-serif\; font-size: 14px\;">Acts as a liaison with our local\, state and nationally&nbsp\;elected government officials. Focuses on items pertinent to housing and the livelihood of our membership. Meets with local elected officials\, discusses ordinances and promotes BUILD-PAC contributions.&nbsp\;</span><br />\n<em style="box-sizing: border-box\; color: rgb(68\, 68\, 68)\; font-family: Verdana\, Geneva\, sans-serif\; font-size: 14px\;">Meets on the 3rd Wednesday every other month from 3:30 to 4:30pm.</em></p>\n
LOCATION:Thirsty Monk South 2 Town Square Blvd #170\, Asheville\, NC 28803
UID:e.9512.3772
SEQUENCE:3
DTSTAMP:20260424T040846Z
URL:https://members.bablueridge.com/events/details/government-affairs-committee-03-15-2023-3772
END:VEVENT

END:VCALENDAR
