BEGIN:VCALENDAR
VERSION:2.0
PRODID:-//ChamberMaster//Event Calendar 2.0//EN
METHOD:PUBLISH
X-PUBLISHED-TTL:P3D
REFRESH-INTERVAL:P3D
CALSCALE:GREGORIAN
BEGIN:VEVENT
DTSTART;VALUE=DATE:20220523
DTEND;VALUE=DATE:20220524
TRANSP:TRANSPARENT
X-MICROSOFT-CDO-ALLDAYEVENT:TRUE
SUMMARY:Early Bird Deadline for Parade of Homes Entry
DESCRIPTION:Today is the deadline for our Early Bird Special for a Parade of Homes Entry. \n\n \n\n	Early Bird Special   $2300\n	Main Deadline   $2875\n	Last Minute Deadline   $3375 \n\n\n\n\nEntering a Home or Project in the Parade of Homes is a great way to showcase your style and craftsmanship to a variety of home buyers both in our area and abroad.  Home entries include new construction and complete remodels\, and can be either occupied or unoccupied.  All Parade entries are featured in a full-color glossy publication distributed throughout the Parade\, on our Parade of Homes Website through an online magazine\, and at AHBA Consumer Events throughout the year. Homes on tour are open for a free self-guided tour during the weekends of October 8-9th\, 15-16th. \n\n\n\n\n\n                           www.ParadeofHomesAsheville.com
X-ALT-DESC;FMTTYPE=text/html:Today is the deadline for our Early Bird Special for a Parade of Homes Entry.&nbsp\;<br />\n&nbsp\;\n<ul style="box-sizing: border-box\; margin-top: 0px\; margin-bottom: 16px\; color: rgb(97\, 97\, 97)\; font-family: &quot\;Open Sans&quot\;\, Helvetica\, Arial\, sans-serif\; font-size: 14px\;">\n	<li style="box-sizing: border-box\;"><strong>Early Bird Special</strong> &ndash\; $2300</li>\n	<li style="box-sizing: border-box\;"><strong>Main Deadline</strong> &ndash\; $2875</li>\n	<li style="box-sizing: border-box\;"><strong>Last Minute&nbsp\;Deadline</strong> &ndash\; $3375&nbsp\;</li>\n</ul>\n\n<div style="box-sizing: border-box\;"><br />\n<span style="color: rgb(97\, 97\, 97)\; font-family: &quot\;Open Sans&quot\;\, Helvetica\, Arial\, sans-serif\; font-size: 14px\;">Entering a Home or Project in the Parade of Homes is a great way to showcase your style and craftsmanship to a variety of home buyers both in our area and abroad. &nbsp\;Home entries include new construction and complete remodels\, and can be either occupied or unoccupied. &nbsp\;All Parade entries are featured in a full-color glossy publication distributed throughout the Parade\, on our Parade of Homes Website through an online magazine\,&nbsp\;and at AHBA Consumer Events throughout the year. Homes on tour are open for a free self-guided tour during the weekends of October 8-9th\, 15-16th.&nbsp\;<br />\n<br />\n<br />\n&nbsp\; &nbsp\; &nbsp\; &nbsp\; &nbsp\; &nbsp\; &nbsp\; &nbsp\; &nbsp\; &nbsp\; &nbsp\; &nbsp\; &nbsp\; &nbsp\;<a href="https://paradeofhomesasheville.com/participate/homeentries/">www.ParadeofHomesAsheville.com</a></span></div>\n
LOCATION:
UID:e.9512.3825
SEQUENCE:3
DTSTAMP:20260424T190435Z
URL:https://members.bablueridge.com/events/details/early-bird-deadline-for-parade-of-homes-entry-3825
END:VEVENT

END:VCALENDAR
