BEGIN:VCALENDAR
VERSION:2.0
PRODID:-//ChamberMaster//Event Calendar 2.0//EN
METHOD:PUBLISH
X-PUBLISHED-TTL:P3D
REFRESH-INTERVAL:P3D
CALSCALE:GREGORIAN
BEGIN:VEVENT
DTSTART:20211203T133000Z
DTEND:20211203T220000Z
X-MICROSOFT-CDO-ALLDAYEVENT:FALSE
SUMMARY:Details & Solutions for Livable Homes and Aging In Place (CAPS III)
DESCRIPTION:Instructor: Steve Monroe CAPS\n\n\n\nThis course builds on the CAPS II course (which is a highly recommended prerequisite to this course) by introducing design solutions and techniques for professionals whose clients require specialized design and equipment to live and thrive comfortably in their homes. Whole house product specification and installation techniques will be covered accompanied by practical\, hands-on activities.
X-ALT-DESC;FMTTYPE=text/html:<strong>Instructor</strong>: Steve Monroe CAPS<br />\n<br />\nThis course builds on the CAPS II course (which is a highly recommended prerequisite to this course) by introducing design solutions and techniques for professionals whose clients require specialized design and equipment to live and thrive comfortably in their homes. Whole house product specification and installation techniques will be covered accompanied by practical\, hands-on activities.
LOCATION:AHBA Office 14 Mimidis Lane\, Route 70 Swannanoa\, NC 28778
UID:e.9512.3650
SEQUENCE:3
DTSTAMP:20260425T031344Z
URL:https://members.bablueridge.com/events/details/details-solutions-for-livable-homes-and-aging-in-place-caps-iii-3650
END:VEVENT

END:VCALENDAR
