BEGIN:VCALENDAR
VERSION:2.0
PRODID:-//ChamberMaster//Event Calendar 2.0//EN
METHOD:PUBLISH
X-PUBLISHED-TTL:P3D
REFRESH-INTERVAL:P3D
CALSCALE:GREGORIAN
BEGIN:VEVENT
DTSTART:20211202T133000Z
DTEND:20211202T220000Z
X-MICROSOFT-CDO-ALLDAYEVENT:FALSE
SUMMARY:Design Concepts for Livable Homes and Aging In Place (CAPS II)
DESCRIPTION:Instructor: Steve Monroe CAPS\n\n\n\nThere is an increasing desire among today's home owners to live in one's home as long as possible which has created a strong demand for products and services serving this audience. To help home owners make their home a safe and comfortable living environment for the long term\, many responsive and innovative products are emerging. Likewise\, service providers are answering this demand by focusing their businesses on creating new homes and renovations that provide design flexibility\, pleasing aesthetics\, high function and usability for all people\, without regard to age\, income or ability level\, and regardless of life's changes and challenges.
X-ALT-DESC;FMTTYPE=text/html:<strong>Instructor</strong>: Steve Monroe CAPS<br />\n<br />\nThere is an increasing desire among today&#39\;s home owners to live in one&#39\;s home as long as possible which has created a strong demand for products and services serving this audience. To help home owners make their home a safe and comfortable living environment for the long term\, many responsive and innovative products are emerging. Likewise\, service providers are answering this demand by focusing their businesses on creating new homes and renovations that provide design flexibility\, pleasing aesthetics\, high function and usability for all people\, without regard to age\, income or ability level\, and regardless of life&rsquo\;s changes and challenges.
LOCATION:AHBA Office 14 Mimidis Lane\, Route 70 Swannanoa\, NC 28778
UID:e.9512.3649
SEQUENCE:3
DTSTAMP:20260425T031312Z
URL:https://members.bablueridge.com/events/details/design-concepts-for-livable-homes-and-aging-in-place-caps-ii-3649
END:VEVENT

END:VCALENDAR
