BEGIN:VCALENDAR
VERSION:2.0
PRODID:-//ChamberMaster//Event Calendar 2.0//EN
METHOD:PUBLISH
X-PUBLISHED-TTL:P3D
REFRESH-INTERVAL:P3D
CALSCALE:GREGORIAN
BEGIN:VEVENT
DTSTART;VALUE=DATE:20220725
DTEND;VALUE=DATE:20220726
TRANSP:TRANSPARENT
X-MICROSOFT-CDO-ALLDAYEVENT:TRUE
SUMMARY:Deadline for Parade of Homes Advertising
DESCRIPTION:Today is the deadline for advertising in our Parade of Homes magazine.\n\n\nEntering an ad in the Parade of Homes is a great way to showcase your company and services to a variety of home buyers both in our area and abroad. \n\n\n\n\n\n                           www.ParadeofHomesAsheville.com
X-ALT-DESC;FMTTYPE=text/html:Today is the deadline for advertising in our Parade of Homes magazine.\n<div style="box-sizing: border-box\;"><br />\n<span style="color: rgb(97\, 97\, 97)\; font-family: &quot\;Open Sans&quot\;\, Helvetica\, Arial\, sans-serif\; font-size: 14px\;">Entering an ad&nbsp\;in the Parade of Homes is a great way to showcase your company&nbsp\;and services&nbsp\;to a variety of home buyers both in our area and abroad.&nbsp\;<br />\n<br />\n<br />\n&nbsp\; &nbsp\; &nbsp\; &nbsp\; &nbsp\; &nbsp\; &nbsp\; &nbsp\; &nbsp\; &nbsp\; &nbsp\; &nbsp\; &nbsp\; &nbsp\;<a href="https://paradeofhomesasheville.com/participate/homeentries/">www.ParadeofHomesAsheville.com</a></span></div>\n
LOCATION:
UID:e.9512.3848
SEQUENCE:3
DTSTAMP:20260424T165002Z
URL:https://members.bablueridge.com/events/details/deadline-for-parade-of-homes-advertising-3848
END:VEVENT

END:VCALENDAR
