BEGIN:VCALENDAR
VERSION:2.0
PRODID:-//ChamberMaster//Event Calendar 2.0//EN
METHOD:PUBLISH
X-PUBLISHED-TTL:P3D
REFRESH-INTERVAL:P3D
CALSCALE:GREGORIAN
BEGIN:VEVENT
DTSTART:20220622T213000Z
DTEND:20220623T020000Z
X-MICROSOFT-CDO-ALLDAYEVENT:FALSE
SUMMARY:Casino Night
DESCRIPTION:Join us for our first ever Casino Night event! It is sure to be a night to remember. Come dressed to impress in your Miami Nights attire! When you sign up as an attendee\, you will receive chips to play the 4 different games throughout the night. You will also receive food and beverages when you sign up. At the end of the night\, turn your chips into raffle tickets to win prizes!
X-ALT-DESC;FMTTYPE=text/html:Join us for our first ever Casino Night event! It is sure to be a night to remember. Come dressed to impress in your Miami Nights attire! When you sign up as an attendee\, you will receive chips to play the 4 different games throughout the night. You will also receive food and beverages when you sign up. At the end of the night\, turn your chips into raffle tickets to win prizes!
LOCATION:Hi Wire Event Center Big Top Location 2A Huntsman Pl\, Asheville\, NC 28803
UID:e.9512.3835
SEQUENCE:3
DTSTAMP:20260424T135413Z
URL:https://members.bablueridge.com/events/details/casino-night-3835
END:VEVENT

END:VCALENDAR
