BEGIN:VCALENDAR
VERSION:2.0
PRODID:-//ChamberMaster//Event Calendar 2.0//EN
METHOD:PUBLISH
X-PUBLISHED-TTL:P3D
REFRESH-INTERVAL:P3D
CALSCALE:GREGORIAN
BEGIN:VEVENT
DTSTART:20230125T210000Z
DTEND:20230125T223000Z
X-MICROSOFT-CDO-ALLDAYEVENT:FALSE
SUMMARY:Builders & Brews - delayed to Jan. 25
DESCRIPTION:This is for Builders Only. A chance to bounce ideas about the newest in building technology off your fellow builders. Share tips\, vendors\, suppliers (maybe)\, and ask questions yourself over some local Asheville Beer. Discuss what's new in code\, what you love about the Home Builders Association and even things that bother you in the industry today.
X-ALT-DESC;FMTTYPE=text/html:This is for Builders Only. A chance to bounce ideas about the newest in building technology off your fellow builders. Share tips\, vendors\, suppliers (maybe)\, and ask questions yourself over some local Asheville Beer. Discuss what&#39\;s new in code\, what you love about the Home Builders Association and even things that bother you in the industry today.&nbsp\;<br />\n&nbsp\;
LOCATION:Thirsty Monk South - Biltmore Park 2 Town Square Blvd #170\, Asheville\, NC 28803
UID:e.9512.3712
SEQUENCE:3
DTSTAMP:20260424T053741Z
URL:https://members.bablueridge.com/events/details/builders-brews-delayed-to-jan-25-3712
END:VEVENT

END:VCALENDAR
