BEGIN:VCALENDAR
VERSION:2.0
PRODID:-//ChamberMaster//Event Calendar 2.0//EN
METHOD:PUBLISH
X-PUBLISHED-TTL:P3D
REFRESH-INTERVAL:P3D
CALSCALE:GREGORIAN
BEGIN:VEVENT
DTSTART:20220817T203000Z
DTEND:20220817T213000Z
X-MICROSOFT-CDO-ALLDAYEVENT:FALSE
SUMMARY:Builders & Brews
DESCRIPTION:This is for Builders Only. A chance to bounce ideas about the newest in building technology off your fellow builders. Share tips\, vendors\, suppliers (maybe)\, and ask questions yourself over some local Asheville Beer. Discuss what's new in code\, what you love about the Home Builders Association and even things that bother you in the industry today. \n\n\n\nThis group will meet every other month as a supplement for Government Affairs.
X-ALT-DESC;FMTTYPE=text/html:This is for Builders Only. A chance to bounce ideas about the newest in building technology off your fellow builders. Share tips\, vendors\, suppliers (maybe)\, and ask questions yourself over some local Asheville Beer. Discuss what&#39\;s new in code\, what you love about the Home Builders Association and even things that bother you in the industry today.&nbsp\;<br />\n<br />\nThis group will meet every other month as a supplement for Government Affairs.&nbsp\;
LOCATION:Thirsty Monk - Biltmore Park 2 Town Square Blvd #170\, Asheville\, NC 28803
UID:e.9512.3710
SEQUENCE:3
DTSTAMP:20260424T133531Z
URL:https://members.bablueridge.com/events/details/builders-brews-08-17-2022-3710
END:VEVENT

END:VCALENDAR
