BEGIN:VCALENDAR
VERSION:2.0
PRODID:-//ChamberMaster//Event Calendar 2.0//EN
METHOD:PUBLISH
X-PUBLISHED-TTL:P3D
REFRESH-INTERVAL:P3D
CALSCALE:GREGORIAN
BEGIN:VEVENT
DTSTART;VALUE=DATE:20210501
DTEND;VALUE=DATE:20210503
TRANSP:TRANSPARENT
X-MICROSOFT-CDO-ALLDAYEVENT:TRUE
SUMMARY:Build and Remodel Expo
DESCRIPTION:Click Here to go to our Build and Remodel Website to buy Tickets and Learn more! \n\nSee who is exhibiting\, get project ideas\, and pre order your tickets to this two day Expo.\n\nThe Asheville Home Builders Association\, the area's leading home building resource since 1966\, is proud to present the annual Build and Remodel Expo.  In line with the growing nature of this show over the years\, this incredible two day Expo the place to showcase your products and services while educating potential clients with the knowledge and expertise you can bring to their building\, remodeling and home improvement projects.
X-ALT-DESC;FMTTYPE=text/html:<p style="text-align:center\;"><a href="http://buildandremodelasheville.com"><strong>Click Here</strong></a><strong> to go to our&nbsp\;Build and Remodel Website to buy Tickets and Learn more!&nbsp\;</strong></p>\n\n<p style="text-align:center\;">See who is exhibiting\, get project ideas\, and&nbsp\;pre order your tickets to this two day Expo.</p>\n\n<p style="text-align:center\;">The Asheville Home Builders Association\, the area&#39\;s leading home building resource since 1966\, is proud to present the annual Build and Remodel Expo.&nbsp\; In line with the growing nature of this show over the years\, this incredible two day Expo the place to showcase your products and services while educating potential clients with the knowledge and expertise you can bring to their building\, remodeling and home improvement projects.</p>\n
LOCATION:WNC Ag Center 1301 Fanning Bridge Rd\, Fletcher\, NC 28732
UID:e.9512.265
SEQUENCE:3
DTSTAMP:20260425T111523Z
URL:https://members.bablueridge.com/events/details/build-and-remodel-expo-02-25-2017-265
END:VEVENT

END:VCALENDAR
